BEGIN:VCALENDAR
VERSION:2.0
PRODID:spatie/icalendar-generator
NAME:Agorakit : Le Tremplin - Salle de réunion 
X-WR-CALNAME:Agorakit : Le Tremplin - Salle de réunion 
DESCRIPTION:Groupe de réservation de la salle de réunion du Tremplin. 
X-WR-CALDESC:Groupe de réservation de la salle de réunion du Tremplin. 
BEGIN:VTIMEZONE
TZID:Europe/Brussels
BEGIN:STANDARD
DTSTART:20191027T030000
TZOFFSETFROM:+0200
TZOFFSETTO:+0100
END:STANDARD
BEGIN:DAYLIGHT
DTSTART:20200329T010000
TZOFFSETFROM:+0100
TZOFFSETTO:+0200
END:DAYLIGHT
BEGIN:STANDARD
DTSTART:20201025T030000
TZOFFSETFROM:+0200
TZOFFSETTO:+0100
END:STANDARD
BEGIN:DAYLIGHT
DTSTART:20210328T010000
TZOFFSETFROM:+0100
TZOFFSETTO:+0200
END:DAYLIGHT
END:VTIMEZONE
BEGIN:VTIMEZONE
TZID:UTC
BEGIN:STANDARD
DTSTART:20190328T092932
TZOFFSETFROM:+0000
TZOFFSETTO:+0000
END:STANDARD
END:VTIMEZONE
BEGIN:VEVENT
UID:Le Tremplin - Salle de réunion -7256
DTSTAMP:20210301T085400Z
SUMMARY:cours de hip-hop en visio
DESCRIPTION:
LOCATION:
DTSTART;TZID=Europe/Brussels:20210310T150000
DTEND;TZID=Europe/Brussels:20210310T180000
END:VEVENT
BEGIN:VEVENT
UID:Le Tremplin - Salle de réunion -7255
DTSTAMP:20210301T085242Z
SUMMARY:cours de hip-hop en visio
DESCRIPTION:
LOCATION:
DTSTART;TZID=Europe/Brussels:20210303T150000
DTEND;TZID=Europe/Brussels:20210303T180000
END:VEVENT
BEGIN:VEVENT
UID:Le Tremplin - Salle de réunion -6964
DTSTAMP:20210115T171010Z
SUMMARY:Atelier M2 TDD
DESCRIPTION:NB : il y aura un atelier cuisine et diététique pour un group
 e d'enfants de 9h à 14h dans la grande salle et cuisine
LOCATION:
DTSTART;TZID=Europe/Brussels:20210219T140000
DTEND;TZID=Europe/Brussels:20210219T180000
END:VEVENT
BEGIN:VEVENT
UID:Le Tremplin - Salle de réunion -6963
DTSTAMP:20210115T170941Z
SUMMARY:Atelier M2 TDD
DESCRIPTION:
LOCATION:
DTSTART;TZID=Europe/Brussels:20210216T140000
DTEND;TZID=Europe/Brussels:20210216T180000
END:VEVENT
BEGIN:VEVENT
UID:Le Tremplin - Salle de réunion -4029
DTSTAMP:20200218T102325Z
SUMMARY:Réunion politique de la ville
DESCRIPTION:Réunion des différents services politique de la ville de Plai
 ne Commune
LOCATION:
DTSTART;TZID=Europe/Brussels:20200303T090000
DTEND;TZID=Europe/Brussels:20200303T120000
END:VEVENT
BEGIN:VEVENT
UID:Le Tremplin - Salle de réunion -3827
DTSTAMP:20200129T100148Z
SUMMARY:Mise en place veille technique NPNRU GUP
DESCRIPTION:La mise en place du suivi technique GUP des quartiers Saint-Leu
  et Langevin. 4 personnes
LOCATION:
DTSTART;TZID=Europe/Brussels:20200205T100000
DTEND;TZID=Europe/Brussels:20200205T113000
END:VEVENT
BEGIN:VEVENT
UID:Le Tremplin - Salle de réunion -3499
DTSTAMP:20200110T142522Z
SUMMARY:Copil Tourisme et patrimoine
DESCRIPTION:environ 20 personnes\, accueil café à 9h avec visite du Tremp
 lin puis réunion 9h30-12h\, avec vidéoprojection
LOCATION:salle de réunion
DTSTART;TZID=Europe/Brussels:20200124T090000
DTEND;TZID=Europe/Brussels:20200124T120000
END:VEVENT
BEGIN:VEVENT
UID:Le Tremplin - Salle de réunion -3723
DTSTAMP:20200123T161914Z
SUMMARY:Point In'Li - UTRU
DESCRIPTION:Retour sur le diag\, mise en place de la veille discussion NPNR
 U
LOCATION:Salle de réunion 
DTSTART;TZID=Europe/Brussels:20200123T100000
DTEND;TZID=Europe/Brussels:20200123T113000
END:VEVENT
BEGIN:VEVENT
UID:Le Tremplin - Salle de réunion -3308
DTSTAMP:20191223T092932Z
SUMMARY:Séminaire DRU
DESCRIPTION:Séminaire DRU
LOCATION:Tremplin
DTSTART;TZID=Europe/Brussels:20200109T000000
DTEND;TZID=Europe/Brussels:20200109T230000
END:VEVENT
END:VCALENDAR