BEGIN:VCALENDAR
VERSION:2.0
PRODID:spatie/icalendar-generator
NAME:Agorakit : DropIn(klusive) Gruppe Spielplatz Bensheim Montagnachmittag
X-WR-CALNAME:Agorakit : DropIn(klusive) Gruppe Spielplatz Bensheim Montagna
 chmittag
DESCRIPTION:Wir gehen gerne auf den Spielplatz
X-WR-CALDESC:Wir gehen gerne auf den Spielplatz
BEGIN:VTIMEZONE
TZID:Europe/Brussels
BEGIN:DAYLIGHT
DTSTART:20190331T010000
TZOFFSETFROM:+0100
TZOFFSETTO:+0200
END:DAYLIGHT
BEGIN:STANDARD
DTSTART:20191027T030000
TZOFFSETFROM:+0200
TZOFFSETTO:+0100
END:STANDARD
BEGIN:DAYLIGHT
DTSTART:20200329T010000
TZOFFSETFROM:+0100
TZOFFSETTO:+0200
END:DAYLIGHT
END:VTIMEZONE
BEGIN:VTIMEZONE
TZID:UTC
BEGIN:STANDARD
DTSTART:20190127T105517
TZOFFSETFROM:+0000
TZOFFSETTO:+0000
END:STANDARD
END:VTIMEZONE
BEGIN:VEVENT
UID:DropIn(klusive) Gruppe Spielplatz Bensheim Montagnachmittag-2586
DTSTAMP:20191024T105517Z
SUMMARY:Spielplatz am 2.11.2019
DESCRIPTION:dsf
LOCATION:
DTSTART;TZID=Europe/Brussels:20191103T150000
DTEND;TZID=Europe/Brussels:20191103T160000
END:VEVENT
END:VCALENDAR