BEGIN:VCALENDAR
VERSION:2.0
PRODID:spatie/icalendar-generator
NAME:Agorakit : blagroup
X-WR-CALNAME:Agorakit : blagroup
DESCRIPTION:blagroup blagroupblagroupblagroupblagroupblagroup
X-WR-CALDESC:blagroup blagroupblagroupblagroupblagroupblagroup
BEGIN:VTIMEZONE
TZID:Europe/Brussels
BEGIN:STANDARD
DTSTART:20171029T030000
TZOFFSETFROM:+0200
TZOFFSETTO:+0100
END:STANDARD
BEGIN:DAYLIGHT
DTSTART:20180325T010000
TZOFFSETFROM:+0100
TZOFFSETTO:+0200
END:DAYLIGHT
END:VTIMEZONE
BEGIN:VTIMEZONE
TZID:UTC
BEGIN:STANDARD
DTSTART:20170701T170021
TZOFFSETFROM:+0000
TZOFFSETTO:+0000
END:STANDARD
END:VTIMEZONE
BEGIN:VEVENT
UID:blagroup-151
DTSTAMP:20180328T170021Z
SUMMARY:vnnvn
DESCRIPTION:vmsegd gh my we fgmhhg m\,ghjn j
LOCATION:fgj fg jgf
DTSTART;TZID=Europe/Brussels:20180328T190000
DTEND;TZID=Europe/Brussels:20180330T200000
END:VEVENT
END:VCALENDAR