BEGIN:VCALENDAR
VERSION:2.0
PRODID:spatie/icalendar-generator
NAME:Agorakit : Pôle WEb
X-WR-CALNAME:Agorakit : Pôle WEb
DESCRIPTION:c v cv c
X-WR-CALDESC:c v cv c
BEGIN:VTIMEZONE
TZID:Europe/Brussels
BEGIN:DAYLIGHT
DTSTART:20190331T010000
TZOFFSETFROM:+0100
TZOFFSETTO:+0200
END:DAYLIGHT
BEGIN:STANDARD
DTSTART:20191027T030000
TZOFFSETFROM:+0200
TZOFFSETTO:+0100
END:STANDARD
END:VTIMEZONE
BEGIN:VTIMEZONE
TZID:UTC
BEGIN:STANDARD
DTSTART:20181210T073000
TZOFFSETFROM:+0000
TZOFFSETTO:+0000
END:STANDARD
END:VTIMEZONE
BEGIN:VEVENT
UID:Pôle WEb-2258
DTSTAMP:20190906T073000Z
SUMMARY:Tests
DESCRIPTION:aaaaaaaaaaaaaa
LOCATION:
DTSTART;TZID=Europe/Brussels:20190906T092900
DTEND;TZID=Europe/Brussels:20190906T102900
END:VEVENT
END:VCALENDAR