BEGIN:VCALENDAR
VERSION:2.0
PRODID:spatie/icalendar-generator
NAME:Agorakit : partage.velo.zut
X-WR-CALNAME:Agorakit : partage.velo.zut
DESCRIPTION:Projet de mise en place vélo partagé dans les Amonges et ses 
 environs (situé en FRANCE\, Bourgogne-Franche-Comté)\, Ce projet est gé
 ré par les bénévols de l'association \"La Convergence des ZUT (Zone Uto
 pique Totale).The project of setting up the shared bike in the Amonges and
  its surroundings (located in FRANCE\, Bourgogne-Franche-Comté)\, This pr
 oject is managed by the volunteers of the association \"La Convergence des
  ZUT\"  (known as \"the convergence of utopian total areas\").フラン
 スのブルゴーニ...
X-WR-CALDESC:Projet de mise en place vélo partagé dans les Amonges et ses
  environs (situé en FRANCE\, Bourgogne-Franche-Comté)\, Ce projet est g
 éré par les bénévols de l'association \"La Convergence des ZUT (Zone U
 topique Totale).The project of setting up the shared bike in the Amonges a
 nd its surroundings (located in FRANCE\, Bourgogne-Franche-Comté)\, This 
 project is managed by the volunteers of the association \"La Convergence d
 es ZUT\"  (known as \"the convergence of utopian total areas\").フラン
 スのブルゴーニ...
BEGIN:VTIMEZONE
TZID:Europe/Brussels
BEGIN:DAYLIGHT
DTSTART:20190331T010000
TZOFFSETFROM:+0100
TZOFFSETTO:+0200
END:DAYLIGHT
BEGIN:STANDARD
DTSTART:20191027T030000
TZOFFSETFROM:+0200
TZOFFSETTO:+0100
END:STANDARD
END:VTIMEZONE
BEGIN:VTIMEZONE
TZID:UTC
BEGIN:STANDARD
DTSTART:20181102T115730
TZOFFSETFROM:+0000
TZOFFSETTO:+0000
END:STANDARD
END:VTIMEZONE
BEGIN:VEVENT
UID:partage.velo.zut-2089
DTSTAMP:20190730T115730Z
SUMMARY:Pret de vélo partagé N°1\, vélo rouge du 27 au 28 juillet 
DESCRIPTION:Pret de vélo partagé N°1\, vélo rouge du 27 au 28 juillet p
 our le festival de chauprix
LOCATION:58130\nMontigny-aux-Amognes
DTSTART;TZID=Europe/Brussels:20190727T090000
DTEND;TZID=Europe/Brussels:20190728T180000
END:VEVENT
END:VCALENDAR