BEGIN:VCALENDAR
VERSION:2.0
PRODID:spatie/icalendar-generator
NAME:Agorakit : Bay Area Biking/Events
X-WR-CALNAME:Agorakit : Bay Area Biking/Events
DESCRIPTION:Testing this out to see if it may work for event planning/Faceb
 ook alternative.__________________________________________________________
 _______________________Links/Resources:If your bike is stolen: https://gro
 ups.google.com/forum/#!forum/stolen-bicycles-bay-areaTo file complaints ag
 ainst dangerous drivers in the Park District:Twitter: https://twitter.com/
 SFPDParkPhone: (415) 242-3000E-mail: SFPDparkstation@sfgov.org and CC: inf
 o@sfbike.orgLet them know whenever you see dangerous driving act...
X-WR-CALDESC:Testing this out to see if it may work for event planning/Face
 book alternative._________________________________________________________
 ________________________Links/Resources:If your bike is stolen: https://gr
 oups.google.com/forum/#!forum/stolen-bicycles-bay-areaTo file complaints a
 gainst dangerous drivers in the Park District:Twitter: https://twitter.com
 /SFPDParkPhone: (415) 242-3000E-mail: SFPDparkstation@sfgov.org and CC: in
 fo@sfbike.orgLet them know whenever you see dangerous driving act...
BEGIN:VTIMEZONE
TZID:Europe/Brussels
BEGIN:STANDARD
DTSTART:20171029T030000
TZOFFSETFROM:+0200
TZOFFSETTO:+0100
END:STANDARD
BEGIN:DAYLIGHT
DTSTART:20180325T010000
TZOFFSETFROM:+0100
TZOFFSETTO:+0200
END:DAYLIGHT
END:VTIMEZONE
BEGIN:VTIMEZONE
TZID:UTC
BEGIN:STANDARD
DTSTART:20170622T205630
TZOFFSETFROM:+0000
TZOFFSETTO:+0000
END:STANDARD
END:VTIMEZONE
BEGIN:VEVENT
UID:Bay Area Biking/Events-140
DTSTAMP:20180319T205630Z
SUMMARY:Test Event
DESCRIPTION:Just seeing how this works. Though I'm really going to Audio th
 is Friday for a show. 
LOCATION:Audio\, SF
DTSTART;TZID=Europe/Brussels:20180323T213000
DTEND;TZID=Europe/Brussels:20180323T223000
END:VEVENT
END:VCALENDAR