BEGIN:VCALENDAR
VERSION:2.0
PRODID:spatie/icalendar-generator
NAME:Agorakit : Ô Troquet
X-WR-CALNAME:Agorakit : Ô Troquet
DESCRIPTION:Café associatif de Villeperdrix
X-WR-CALDESC:Café associatif de Villeperdrix
BEGIN:VTIMEZONE
TZID:Europe/Brussels
BEGIN:STANDARD
DTSTART:20181028T030000
TZOFFSETFROM:+0200
TZOFFSETTO:+0100
END:STANDARD
BEGIN:DAYLIGHT
DTSTART:20190331T010000
TZOFFSETFROM:+0100
TZOFFSETTO:+0200
END:DAYLIGHT
BEGIN:STANDARD
DTSTART:20191027T030000
TZOFFSETFROM:+0200
TZOFFSETTO:+0100
END:STANDARD
BEGIN:DAYLIGHT
DTSTART:20200329T010000
TZOFFSETFROM:+0100
TZOFFSETTO:+0200
END:DAYLIGHT
BEGIN:STANDARD
DTSTART:20201025T030000
TZOFFSETFROM:+0200
TZOFFSETTO:+0100
END:STANDARD
BEGIN:DAYLIGHT
DTSTART:20210328T010000
TZOFFSETFROM:+0100
TZOFFSETTO:+0200
END:DAYLIGHT
BEGIN:STANDARD
DTSTART:20211031T030000
TZOFFSETFROM:+0200
TZOFFSETTO:+0100
END:STANDARD
BEGIN:DAYLIGHT
DTSTART:20220327T010000
TZOFFSETFROM:+0100
TZOFFSETTO:+0200
END:DAYLIGHT
BEGIN:STANDARD
DTSTART:20221030T030000
TZOFFSETFROM:+0200
TZOFFSETTO:+0100
END:STANDARD
BEGIN:DAYLIGHT
DTSTART:20230326T010000
TZOFFSETFROM:+0100
TZOFFSETTO:+0200
END:DAYLIGHT
BEGIN:STANDARD
DTSTART:20231029T030000
TZOFFSETFROM:+0200
TZOFFSETTO:+0100
END:STANDARD
BEGIN:DAYLIGHT
DTSTART:20240331T010000
TZOFFSETFROM:+0100
TZOFFSETTO:+0200
END:DAYLIGHT
BEGIN:STANDARD
DTSTART:20241027T030000
TZOFFSETFROM:+0200
TZOFFSETTO:+0100
END:STANDARD
END:VTIMEZONE
BEGIN:VTIMEZONE
TZID:UTC
BEGIN:STANDARD
DTSTART:20180930T113110
TZOFFSETFROM:+0000
TZOFFSETTO:+0000
END:STANDARD
END:VTIMEZONE
BEGIN:VEVENT
UID:Ô Troquet-23579
DTSTAMP:20240509T125231Z
SUMMARY:Clôture: Bal Folk Mot'Zicales
DESCRIPTION:
LOCATION:
DTSTART;TZID=Europe/Brussels:20240917T190000
DTEND;TZID=Europe/Brussels:20240917T200000
END:VEVENT
BEGIN:VEVENT
UID:Ô Troquet-22965
DTSTAMP:20240321T090607Z
SUMMARY:Permanence  // Catherine + Nadine
DESCRIPTION:
LOCATION:
DTSTART;TZID=Europe/Brussels:20240917T170000
DTEND;TZID=Europe/Brussels:20240917T223000
END:VEVENT
BEGIN:VEVENT
UID:Ô Troquet-22964
DTSTAMP:20240321T090521Z
SUMMARY:Permanence  // Marine + Bérengère + Natou
DESCRIPTION:
LOCATION:
DTSTART;TZID=Europe/Brussels:20240910T170000
DTEND;TZID=Europe/Brussels:20240910T223000
END:VEVENT
BEGIN:VEVENT
UID:Ô Troquet-22963
DTSTAMP:20240321T090430Z
SUMMARY:Permanence  // Jean-Marie + Sophie + Catherine
DESCRIPTION:
LOCATION:
DTSTART;TZID=Europe/Brussels:20240903T170000
DTEND;TZID=Europe/Brussels:20240903T223000
END:VEVENT
BEGIN:VEVENT
UID:Ô Troquet-24422
DTSTAMP:20240813T134826Z
SUMMARY:Animation: Eric Jay Radio
DESCRIPTION:
LOCATION:
DTSTART;TZID=Europe/Brussels:20240827T200000
DTEND;TZID=Europe/Brussels:20240827T210000
END:VEVENT
BEGIN:VEVENT
UID:Ô Troquet-22962
DTSTAMP:20240321T090018Z
SUMMARY:Permanence  // Michèle + Domi + Sophie
DESCRIPTION:
LOCATION:
DTSTART;TZID=Europe/Brussels:20240827T170000
DTEND;TZID=Europe/Brussels:20240827T223000
END:VEVENT
BEGIN:VEVENT
UID:Ô Troquet-23577
DTSTAMP:20240509T124951Z
SUMMARY:Soupe au Pistou
DESCRIPTION:Besoin de bénévoles! Se proposent en +: Domi / Catherine / Mi
 chel / Michèle
LOCATION:
DTSTART;TZID=Europe/Brussels:20240820T180000
DTEND;TZID=Europe/Brussels:20240820T190000
END:VEVENT
BEGIN:VEVENT
UID:Ô Troquet-22961
DTSTAMP:20240321T085550Z
SUMMARY:Permanence  // Jean-Marie + Michèle + Domi + Merrouse + Perrouse +
  Petit fils I + Petit fils II
DESCRIPTION:
LOCATION:
DTSTART;TZID=Europe/Brussels:20240820T170000
DTEND;TZID=Europe/Brussels:20240820T223000
END:VEVENT
BEGIN:VEVENT
UID:Ô Troquet-22960
DTSTAMP:20240321T085405Z
SUMMARY:Permanence  // Jean-Marie + Marine + Marie-Line + Mirabelle
DESCRIPTION:
LOCATION:
DTSTART;TZID=Europe/Brussels:20240813T170000
DTEND;TZID=Europe/Brussels:20240813T223000
END:VEVENT
BEGIN:VEVENT
UID:Ô Troquet-23025
DTSTAMP:20240326T093457Z
SUMMARY:BLUE JAZZ MOTTE
DESCRIPTION:
LOCATION:La Motte Chalancon
DTSTART;TZID=Europe/Brussels:20240806T180000
DTEND;TZID=Europe/Brussels:20240806T000000
END:VEVENT
BEGIN:VEVENT
UID:Ô Troquet-22969
DTSTAMP:20240321T093004Z
SUMMARY:Petite restauration: Assiettes Catherine
DESCRIPTION:
LOCATION:
DTSTART;TZID=Europe/Brussels:20240806T180000
DTEND;TZID=Europe/Brussels:20240806T200000
END:VEVENT
BEGIN:VEVENT
UID:Ô Troquet-22959
DTSTAMP:20240321T085318Z
SUMMARY:Permanence  // Bérengère + Stéphane + Nathalie 
DESCRIPTION:
LOCATION:
DTSTART;TZID=Europe/Brussels:20240806T170000
DTEND;TZID=Europe/Brussels:20240806T223000
END:VEVENT
BEGIN:VEVENT
UID:Ô Troquet-24112
DTSTAMP:20240627T085212Z
SUMMARY:Foodtruck Indien
DESCRIPTION:Morguen ROBERTYummy\, Indian street foodTel: 0633986574yummy841
 10@yahoo.com 
LOCATION:
DTSTART;TZID=Europe/Brussels:20240730T190000
DTEND;TZID=Europe/Brussels:20240730T235900
END:VEVENT
BEGIN:VEVENT
UID:Ô Troquet-22958
DTSTAMP:20240321T084326Z
SUMMARY:Permanence  // Bérengère + Marine + Sophie
DESCRIPTION:
LOCATION:
DTSTART;TZID=Europe/Brussels:20240730T170000
DTEND;TZID=Europe/Brussels:20240730T223000
END:VEVENT
BEGIN:VEVENT
UID:Ô Troquet-24111
DTSTAMP:20240627T085120Z
SUMMARY:Foodtruck O'ppada
DESCRIPTION:Alex 06 58 17 70 62
LOCATION:
DTSTART;TZID=Europe/Brussels:20240723T190000
DTEND;TZID=Europe/Brussels:20240723T235900
END:VEVENT
BEGIN:VEVENT
UID:Ô Troquet-22955
DTSTAMP:20240321T083531Z
SUMMARY:Permanence  // Dorothée + Natou + Marine + Severine
DESCRIPTION:
LOCATION:
DTSTART;TZID=Europe/Brussels:20240723T170000
DTEND;TZID=Europe/Brussels:20240723T223000
END:VEVENT
BEGIN:VEVENT
UID:Ô Troquet-23574
DTSTAMP:20240509T124624Z
SUMMARY:Conteuse Sophie Deplus
DESCRIPTION:
LOCATION:
DTSTART;TZID=Europe/Brussels:20240716T200000
DTEND;TZID=Europe/Brussels:20240716T210000
END:VEVENT
BEGIN:VEVENT
UID:Ô Troquet-23575
DTSTAMP:20240509T124641Z
SUMMARY:Food Truck crèpes
DESCRIPTION:
LOCATION:
DTSTART;TZID=Europe/Brussels:20240716T190000
DTEND;TZID=Europe/Brussels:20240716T200000
END:VEVENT
BEGIN:VEVENT
UID:Ô Troquet-22957
DTSTAMP:20240321T083716Z
SUMMARY:Permanence  // Marie-Françoise + Catherine + Michel
DESCRIPTION:
LOCATION:
DTSTART;TZID=Europe/Brussels:20240716T170000
DTEND;TZID=Europe/Brussels:20240716T223000
END:VEVENT
BEGIN:VEVENT
UID:Ô Troquet-23850
DTSTAMP:20240601T094658Z
SUMMARY:Soirée jeux AASHN
DESCRIPTION:
LOCATION:
DTSTART;TZID=Europe/Brussels:20240709T180000
DTEND;TZID=Europe/Brussels:20240709T190000
END:VEVENT
BEGIN:VEVENT
UID:Ô Troquet-22968
DTSTAMP:20240321T092942Z
SUMMARY:Petite restauration: Pizz'Andrea
DESCRIPTION:
LOCATION:
DTSTART;TZID=Europe/Brussels:20240709T180000
DTEND;TZID=Europe/Brussels:20240709T200000
END:VEVENT
BEGIN:VEVENT
UID:Ô Troquet-22954
DTSTAMP:20240321T083415Z
SUMMARY:Permanence  // Natou + Nadine + Sophie
DESCRIPTION:
LOCATION:
DTSTART;TZID=Europe/Brussels:20240709T170000
DTEND;TZID=Europe/Brussels:20240709T223000
END:VEVENT
BEGIN:VEVENT
UID:Ô Troquet-22956
DTSTAMP:20240321T083609Z
SUMMARY:Permanence  // Nadine + Sophie + Stéphane
DESCRIPTION:
LOCATION:
DTSTART;TZID=Europe/Brussels:20240702T170000
DTEND;TZID=Europe/Brussels:20240702T223000
END:VEVENT
BEGIN:VEVENT
UID:Ô Troquet-22951
DTSTAMP:20240321T082442Z
SUMMARY:Permanence  // Domi + Catherine+ Michel
DESCRIPTION:
LOCATION:
DTSTART;TZID=Europe/Brussels:20240625T170000
DTEND;TZID=Europe/Brussels:20240625T223000
END:VEVENT
BEGIN:VEVENT
UID:Ô Troquet-22953
DTSTAMP:20240321T083151Z
SUMMARY:Permanence  // Stéphane + Jacques + Catherine + Michèle 
DESCRIPTION:
LOCATION:
DTSTART;TZID=Europe/Brussels:20240618T170000
DTEND;TZID=Europe/Brussels:20240618T223000
END:VEVENT
BEGIN:VEVENT
UID:Ô Troquet-23571
DTSTAMP:20240509T124152Z
SUMMARY:Annifs Andrea / Marine / Michel / Dorothée:! DJ Jungle Groove
DESCRIPTION:
LOCATION:
DTSTART;TZID=Europe/Brussels:20240611T210000
DTEND;TZID=Europe/Brussels:20240611T120000
END:VEVENT
BEGIN:VEVENT
UID:Ô Troquet-23650
DTSTAMP:20240520T085814Z
SUMMARY:Julie La Maraîchère
DESCRIPTION:
LOCATION:
DTSTART;TZID=Europe/Brussels:20240611T180000
DTEND;TZID=Europe/Brussels:20240611T235900
END:VEVENT
BEGIN:VEVENT
UID:Ô Troquet-22966
DTSTAMP:20240321T092839Z
SUMMARY:O'Padda foodtruck
DESCRIPTION:Anniversaire Marine\, Michel\, Andréa\, Dorothée
LOCATION:
DTSTART;TZID=Europe/Brussels:20240611T180000
DTEND;TZID=Europe/Brussels:20240611T230000
END:VEVENT
BEGIN:VEVENT
UID:Ô Troquet-22950
DTSTAMP:20240321T082304Z
SUMMARY:Permanence  // Jean-Marie + Catherine + Nadine + Michèle  (+ Nat i
 nstal/rangement) 
DESCRIPTION:
LOCATION:
DTSTART;TZID=Europe/Brussels:20240611T170000
DTEND;TZID=Europe/Brussels:20240611T223000
END:VEVENT
BEGIN:VEVENT
UID:Ô Troquet-23582
DTSTAMP:20240509T125629Z
SUMMARY:Animation AASHN: pause café 15h30
DESCRIPTION:
LOCATION:
DTSTART;TZID=Europe/Brussels:20240611T153000
DTEND;TZID=Europe/Brussels:20240611T170000
END:VEVENT
BEGIN:VEVENT
UID:Ô Troquet-23573
DTSTAMP:20240509T124507Z
SUMMARY:Food Truck crèpes
DESCRIPTION:
LOCATION:
DTSTART;TZID=Europe/Brussels:20240604T190000
DTEND;TZID=Europe/Brussels:20240604T200000
END:VEVENT
BEGIN:VEVENT
UID:Ô Troquet-22952
DTSTAMP:20240321T082549Z
SUMMARY:Permanence  // Sophie + Bérengère + Stef (fermeture)
DESCRIPTION:
LOCATION:
DTSTART;TZID=Europe/Brussels:20240604T170000
DTEND;TZID=Europe/Brussels:20240604T223000
END:VEVENT
BEGIN:VEVENT
UID:Ô Troquet-23572
DTSTAMP:20240509T124416Z
SUMMARY:Animation: Balades en Haiku / Valentin
DESCRIPTION:Sur inscription\, au chapeau\, départ 16:00
LOCATION:
DTSTART;TZID=Europe/Brussels:20240604T160000
DTEND;TZID=Europe/Brussels:20240604T180000
END:VEVENT
BEGIN:VEVENT
UID:Ô Troquet-23776
DTSTAMP:20240527T125301Z
SUMMARY:Animation magie
DESCRIPTION:Spectacle de magie avec Fabrice
LOCATION:
DTSTART;TZID=Europe/Brussels:20240528T191700
DTEND;TZID=Europe/Brussels:20240528T201700
END:VEVENT
BEGIN:VEVENT
UID:Ô Troquet-22949
DTSTAMP:20240321T081847Z
SUMMARY:Permanence  // Bérengère + Michèle + Catherine
DESCRIPTION:
LOCATION:
DTSTART;TZID=Europe/Brussels:20240528T170000
DTEND;TZID=Europe/Brussels:20240528T223000
END:VEVENT
BEGIN:VEVENT
UID:Ô Troquet-22948
DTSTAMP:20240321T081329Z
SUMMARY:Permanence // Stéphane + Cat' (installation)
DESCRIPTION:
LOCATION:
DTSTART;TZID=Europe/Brussels:20240521T170000
DTEND;TZID=Europe/Brussels:20240521T223000
END:VEVENT
BEGIN:VEVENT
UID:Ô Troquet-23581
DTSTAMP:20240509T125540Z
SUMMARY:Animation AASHN: pause café
DESCRIPTION:
LOCATION:
DTSTART;TZID=Europe/Brussels:20240521T153000
DTEND;TZID=Europe/Brussels:20240521T170000
END:VEVENT
BEGIN:VEVENT
UID:Ô Troquet-22807
DTSTAMP:20240312T133833Z
SUMMARY:Rangement
DESCRIPTION:
LOCATION:
DTSTART;TZID=Europe/Brussels:20240514T223000
DTEND;TZID=Europe/Brussels:20240514T230000
END:VEVENT
BEGIN:VEVENT
UID:Ô Troquet-23580
DTSTAMP:20240509T125450Z
SUMMARY:Repas Kalalou / Tarte aux fraises 10e
DESCRIPTION:
LOCATION:
DTSTART;TZID=Europe/Brussels:20240514T190000
DTEND;TZID=Europe/Brussels:20240514T200000
END:VEVENT
BEGIN:VEVENT
UID:Ô Troquet-22806
DTSTAMP:20240312T133748Z
SUMMARY:REOUVERTURE
DESCRIPTION:Permanence: tout le monde!
LOCATION:
DTSTART;TZID=Europe/Brussels:20240514T180000
DTEND;TZID=Europe/Brussels:20240514T220000
END:VEVENT
BEGIN:VEVENT
UID:Ô Troquet-22805
DTSTAMP:20240312T133653Z
SUMMARY:Installation Troquet
DESCRIPTION:
LOCATION:
DTSTART;TZID=Europe/Brussels:20240514T163000
DTEND;TZID=Europe/Brussels:20240514T180000
END:VEVENT
BEGIN:VEVENT
UID:Ô Troquet-22804
DTSTAMP:20240312T133604Z
SUMMARY:Formation tireuse
DESCRIPTION:
LOCATION:
DTSTART;TZID=Europe/Brussels:20240514T160000
DTEND;TZID=Europe/Brussels:20240514T163000
END:VEVENT
BEGIN:VEVENT
UID:Ô Troquet-23570
DTSTAMP:20240509T123750Z
SUMMARY:Installation verres / matos Catherine
DESCRIPTION:
LOCATION:
DTSTART;TZID=Europe/Brussels:20240513T143700
DTEND;TZID=Europe/Brussels:20240513T153700
END:VEVENT
BEGIN:VEVENT
UID:Ô Troquet-8695
DTSTAMP:20210623T061203Z
SUMMARY:OUVERTURE 
DESCRIPTION:Mardia\, salle des fêtes\, de 18h à 22h
LOCATION:Salle des fêtes
DTSTART;TZID=Europe/Brussels:20210706T180000
DTEND;TZID=Europe/Brussels:20210706T220000
END:VEVENT
BEGIN:VEVENT
UID:Ô Troquet-8696
DTSTAMP:20210623T061251Z
SUMMARY:Journée d'installation
DESCRIPTION:
LOCATION:
DTSTART;TZID=Europe/Brussels:20210705T100000
DTEND;TZID=Europe/Brussels:20210705T180000
END:VEVENT
BEGIN:VEVENT
UID:Ô Troquet-2074
DTSTAMP:20190725T133629Z
SUMMARY:Concert Guitare Guillaume
DESCRIPTION:Concert Accoustique de Guillaume et son pote à la guitare! Pen
 ser à missionner quelqu'un pour demander un chapeau. Nourris / abreuvés.
LOCATION:
DTSTART;TZID=Europe/Brussels:20190806T193000
DTEND;TZID=Europe/Brussels:20190806T220000
END:VEVENT
BEGIN:VEVENT
UID:Ô Troquet-2040
DTSTAMP:20190720T211906Z
SUMMARY:Atelier Batucada
DESCRIPTION:Responsable soirée: JustineAnimation: Joseph
LOCATION:
DTSTART;TZID=Europe/Brussels:20190723T180000
DTEND;TZID=Europe/Brussels:20190723T220000
END:VEVENT
BEGIN:VEVENT
UID:Ô Troquet-1987
DTSTAMP:20190712T195303Z
SUMMARY:Soirée plancha!
DESCRIPTION:Ramènes tes légumes et tes saucisses ou achètes-en sur place
 \, on fournit la plancha!
LOCATION:
DTSTART;TZID=Europe/Brussels:20190712T180000
DTEND;TZID=Europe/Brussels:20190712T220000
END:VEVENT
BEGIN:VEVENT
UID:Ô Troquet-1886
DTSTAMP:20190627T113110Z
SUMMARY:Inauguration!!!
DESCRIPTION:Soirée de lancement du café asso
LOCATION:Cours de la Salle des Fêtes
DTSTART;TZID=Europe/Brussels:20190709T180000
DTEND;TZID=Europe/Brussels:20190709T220000
END:VEVENT
BEGIN:VEVENT
UID:Ô Troquet-1899
DTSTAMP:20190701T114636Z
SUMMARY:Journée d'installation collective?
DESCRIPTION:Installation de la déco\, des tables\, du café quoi...
LOCATION:
DTSTART;TZID=Europe/Brussels:20190707T090000
DTEND;TZID=Europe/Brussels:20190707T180000
END:VEVENT
END:VCALENDAR