BEGIN:VCALENDAR
VERSION:2.0
PRODID:spatie/icalendar-generator
NAME:Agorakit : Vie Sociale & Culturelle du Blanc & de la Brenne
X-WR-CALNAME:Agorakit : Vie Sociale & Culturelle du Blanc & de la Brenne
DESCRIPTION:Le groupe Vie Sociale & Culturelle du Blanc & de la Brenne a po
 ur but de permettre à la vie associative de savoir ce que les autres font
  avant de décider d'une date\, d'éventuellement contacter les autres ass
 ociations qui auraient décidé d'une manifestation afin de converger.
X-WR-CALDESC:Le groupe Vie Sociale & Culturelle du Blanc & de la Brenne a p
 our but de permettre à la vie associative de savoir ce que les autres fon
 t avant de décider d'une date\, d'éventuellement contacter les autres as
 sociations qui auraient décidé d'une manifestation afin de converger.
BEGIN:VTIMEZONE
TZID:Europe/Brussels
BEGIN:STANDARD
DTSTART:20201025T030000
TZOFFSETFROM:+0200
TZOFFSETTO:+0100
END:STANDARD
BEGIN:DAYLIGHT
DTSTART:20210328T010000
TZOFFSETFROM:+0100
TZOFFSETTO:+0200
END:DAYLIGHT
BEGIN:STANDARD
DTSTART:20211031T030000
TZOFFSETFROM:+0200
TZOFFSETTO:+0100
END:STANDARD
END:VTIMEZONE
BEGIN:VTIMEZONE
TZID:UTC
BEGIN:STANDARD
DTSTART:20201014T144159
TZOFFSETFROM:+0000
TZOFFSETTO:+0000
END:STANDARD
END:VTIMEZONE
BEGIN:VEVENT
UID:Vie Sociale & Culturelle du Blanc & de la Brenne-9101
DTSTAMP:20210808T100923Z
SUMMARY:Forum des associations
DESCRIPTION:
LOCATION:Parc des Expositions 36300 LE 
DTSTART;TZID=Europe/Brussels:20210904T100000
DTEND;TZID=Europe/Brussels:20210904T180000
END:VEVENT
BEGIN:VEVENT
UID:Vie Sociale & Culturelle du Blanc & de la Brenne-8908
DTSTAMP:20210711T144159Z
SUMMARY:Naissance de l'agenda associatif du Blanc et de la Brenne
DESCRIPTION:
LOCATION:
DTSTART;TZID=Europe/Brussels:20210711T164100
DTEND;TZID=Europe/Brussels:20210711T174100
END:VEVENT
END:VCALENDAR