BEGIN:VCALENDAR
VERSION:2.0
PRODID:spatie/icalendar-generator
NAME:Agorakit : Marketing
X-WR-CALNAME:Agorakit : Marketing
DESCRIPTION:Salon de l'innovation
X-WR-CALDESC:Salon de l'innovation
BEGIN:VTIMEZONE
TZID:Europe/Brussels
BEGIN:STANDARD
DTSTART:20181028T030000
TZOFFSETFROM:+0200
TZOFFSETTO:+0100
END:STANDARD
BEGIN:DAYLIGHT
DTSTART:20190331T010000
TZOFFSETFROM:+0100
TZOFFSETTO:+0200
END:DAYLIGHT
BEGIN:STANDARD
DTSTART:20191027T030000
TZOFFSETFROM:+0200
TZOFFSETTO:+0100
END:STANDARD
END:VTIMEZONE
BEGIN:VTIMEZONE
TZID:UTC
BEGIN:STANDARD
DTSTART:20180916T130332
TZOFFSETFROM:+0000
TZOFFSETTO:+0000
END:STANDARD
END:VTIMEZONE
BEGIN:VEVENT
UID:Marketing-1766
DTSTAMP:20190613T130332Z
SUMMARY:inno salon marketing
DESCRIPTION:test
LOCATION:
DTSTART;TZID=Europe/Brussels:20190613T150300
DTEND;TZID=Europe/Brussels:20190613T160300
END:VEVENT
END:VCALENDAR