BEGIN:VCALENDAR
VERSION:2.0
PRODID:spatie/icalendar-generator
NAME:Agorakit : test1
X-WR-CALNAME:Agorakit : test1
DESCRIPTION:bonjour
X-WR-CALDESC:bonjour
BEGIN:VTIMEZONE
TZID:Europe/Brussels
BEGIN:STANDARD
DTSTART:20181028T030000
TZOFFSETFROM:+0200
TZOFFSETTO:+0100
END:STANDARD
BEGIN:DAYLIGHT
DTSTART:20190331T010000
TZOFFSETFROM:+0100
TZOFFSETTO:+0200
END:DAYLIGHT
BEGIN:STANDARD
DTSTART:20191027T030000
TZOFFSETFROM:+0200
TZOFFSETTO:+0100
END:STANDARD
END:VTIMEZONE
BEGIN:VTIMEZONE
TZID:UTC
BEGIN:STANDARD
DTSTART:20180811T213110
TZOFFSETFROM:+0000
TZOFFSETTO:+0000
END:STANDARD
END:VTIMEZONE
BEGIN:VEVENT
UID:test1-1626
DTSTAMP:20190508T213110Z
SUMMARY:tests
DESCRIPTION:tests
LOCATION:
DTSTART;TZID=Europe/Brussels:20190508T233000
DTEND;TZID=Europe/Brussels:20190509T003000
END:VEVENT
END:VCALENDAR