BEGIN:VCALENDAR
VERSION:2.0
PRODID:spatie/icalendar-generator
NAME:Agorakit : Tis
X-WR-CALNAME:Agorakit : Tis
DESCRIPTION:Programa de formació per emprenedors que volen accelerar la cr
 eació de la seva empresa d'innovació amb impacte social.Formació per la
  acceleració de la  creació de empreses o projectes amb impacte socia
 l.Apunteu-vos al grup Rebreu informació sobre les activitats .Workshops\
 , trobades informals\, tallers de reflexióCreació de comunitat\, ...Apun
 teu-vos aquest  grup ser membres d'una xarxa de recolzament mutu\,  si v
 oleu fer algo\, compartir inquietuds\, començar a definir que voleu fer\,
  adquirir més...
X-WR-CALDESC:Programa de formació per emprenedors que volen accelerar la c
 reació de la seva empresa d'innovació amb impacte social.Formació per l
 a acceleració de la  creació de empreses o projectes amb impacte soci
 al.Apunteu-vos al grup Rebreu informació sobre les activitats .Workshops
 \, trobades informals\, tallers de reflexióCreació de comunitat\, ...Apu
 nteu-vos aquest  grup ser membres d'una xarxa de recolzament mutu\,  si 
 voleu fer algo\, compartir inquietuds\, començar a definir que voleu fer\
 , adquirir més...
BEGIN:VTIMEZONE
TZID:Europe/Brussels
BEGIN:STANDARD
DTSTART:20181028T030000
TZOFFSETFROM:+0200
TZOFFSETTO:+0100
END:STANDARD
BEGIN:DAYLIGHT
DTSTART:20190331T010000
TZOFFSETFROM:+0100
TZOFFSETTO:+0200
END:DAYLIGHT
END:VTIMEZONE
BEGIN:VTIMEZONE
TZID:UTC
BEGIN:STANDARD
DTSTART:20180707T075353
TZOFFSETFROM:+0000
TZOFFSETTO:+0000
END:STANDARD
END:VTIMEZONE
BEGIN:VEVENT
UID:Tis-1292
DTSTAMP:20190403T075654Z
SUMMARY:2 xerrada presentació Tis
DESCRIPTION:Motivacció Reus2 Presentació del Tis a Dinamitzadors comunita
 ris
LOCATION:Reus
DTSTART;TZID=Europe/Brussels:20190409T170000
DTEND;TZID=Europe/Brussels:20190409T183000
END:VEVENT
BEGIN:VEVENT
UID:Tis-1291
DTSTAMP:20190403T075353Z
SUMMARY:Xerrada a Motivacció Reus
DESCRIPTION:Presentació del TIS a Motivacció Reus.
LOCATION:reus
DTSTART;TZID=Europe/Brussels:20190404T133000
DTEND;TZID=Europe/Brussels:20190404T150000
END:VEVENT
END:VCALENDAR