BEGIN:VCALENDAR
VERSION:2.0
PRODID:spatie/icalendar-generator
NAME:Agorakit : agenda gilets jaunes ariege
X-WR-CALNAME:Agorakit : agenda gilets jaunes ariege
DESCRIPTION:espace participatif d'organisation.
X-WR-CALDESC:espace participatif d'organisation.
BEGIN:VTIMEZONE
TZID:Europe/Brussels
BEGIN:STANDARD
DTSTART:20181028T030000
TZOFFSETFROM:+0200
TZOFFSETTO:+0100
END:STANDARD
BEGIN:DAYLIGHT
DTSTART:20190331T010000
TZOFFSETFROM:+0100
TZOFFSETTO:+0200
END:DAYLIGHT
END:VTIMEZONE
BEGIN:VTIMEZONE
TZID:UTC
BEGIN:STANDARD
DTSTART:20180509T145341
TZOFFSETFROM:+0000
TZOFFSETTO:+0000
END:STANDARD
END:VTIMEZONE
BEGIN:VEVENT
UID:agenda gilets jaunes ariege-927
DTSTAMP:20190203T145341Z
SUMMARY:cabane de rond point
DESCRIPTION:construction d'un QG sur le parking de la piscine
LOCATION:saint girons
DTSTART;TZID=Europe/Brussels:20190204T120000
DTEND;TZID=Europe/Brussels:20190204T180000
END:VEVENT
END:VCALENDAR