BEGIN:VCALENDAR
VERSION:2.0
PRODID:spatie/icalendar-generator
NAME:Agorakit : Pidouwap
X-WR-CALNAME:Agorakit : Pidouwap
DESCRIPTION:Groupe contenant toutes infos des 3 chorale Pidouwap de l'écol
 e de musique \"le ROCK D'ANGLARS\" à Saint Antonin Noble Val( morceaux\, 
 agenda\, et discut\, si le choeur vous en dit)BisousKeva
X-WR-CALDESC:Groupe contenant toutes infos des 3 chorale Pidouwap de l'éco
 le de musique \"le ROCK D'ANGLARS\" à Saint Antonin Noble Val( morceaux\,
  agenda\, et discut\, si le choeur vous en dit)BisousKeva
BEGIN:VTIMEZONE
TZID:Europe/Brussels
BEGIN:STANDARD
DTSTART:20181028T030000
TZOFFSETFROM:+0200
TZOFFSETTO:+0100
END:STANDARD
BEGIN:DAYLIGHT
DTSTART:20190331T010000
TZOFFSETFROM:+0100
TZOFFSETTO:+0200
END:DAYLIGHT
BEGIN:STANDARD
DTSTART:20191027T030000
TZOFFSETFROM:+0200
TZOFFSETTO:+0100
END:STANDARD
BEGIN:DAYLIGHT
DTSTART:20200329T010000
TZOFFSETFROM:+0100
TZOFFSETTO:+0200
END:DAYLIGHT
END:VTIMEZONE
BEGIN:VTIMEZONE
TZID:UTC
BEGIN:STANDARD
DTSTART:20180513T132317
TZOFFSETFROM:+0000
TZOFFSETTO:+0000
END:STANDARD
END:VTIMEZONE
BEGIN:VEVENT
UID:Pidouwap-2715
DTSTAMP:20191112T153252Z
SUMMARY:Concert de soutien
DESCRIPTION:Concert de soutient de l'école de musique \nCe samedi 16 nove
 mbre  à 19h \n\nRock\, Melting-pop\, blues\, Musique classique\, Élec
 tro-swing Boissons et pizzas !Entrée libre
LOCATION:
DTSTART;TZID=Europe/Brussels:20191116T190000
DTEND;TZID=Europe/Brussels:20191116T000000
END:VEVENT
BEGIN:VEVENT
UID:Pidouwap-968
DTSTAMP:20190207T132317Z
SUMMARY:Cabaret Penne Pidouwap
DESCRIPTION:L'horaire à confirmer\, lieu aussiLes morceaux : la vie en ros
 e\, pidouwap\, blackbird\, et eventuellement yatishé swing...
LOCATION:
DTSTART;TZID=Europe/Brussels:20190216T190000
DTEND;TZID=Europe/Brussels:20190216T200000
END:VEVENT
END:VCALENDAR