BEGIN:VCALENDAR
VERSION:2.0
PRODID:spatie/icalendar-generator
NAME:Agorakit : Mairie de Cournonsec (34)
X-WR-CALNAME:Agorakit : Mairie de Cournonsec (34)
DESCRIPTION:Planning public des activités du village.
X-WR-CALDESC:Planning public des activités du village.
BEGIN:VTIMEZONE
TZID:Europe/Brussels
BEGIN:STANDARD
DTSTART:20251026T030000
TZOFFSETFROM:+0200
TZOFFSETTO:+0100
END:STANDARD
BEGIN:DAYLIGHT
DTSTART:20260329T010000
TZOFFSETFROM:+0100
TZOFFSETTO:+0200
END:DAYLIGHT
BEGIN:STANDARD
DTSTART:20261025T030000
TZOFFSETFROM:+0200
TZOFFSETTO:+0100
END:STANDARD
END:VTIMEZONE
BEGIN:VTIMEZONE
TZID:UTC
BEGIN:STANDARD
DTSTART:20250726T200142
TZOFFSETFROM:+0000
TZOFFSETTO:+0000
END:STANDARD
END:VTIMEZONE
BEGIN:VEVENT
UID:Mairie de Cournonsec (34)-30848
DTSTAMP:20260422T200400Z
SUMMARY:ASLEC SOIRÉE
DESCRIPTION:
LOCATION:
DTSTART;TZID=Europe/Brussels:20260620T180000
DTEND;TZID=Europe/Brussels:20260620T235900
END:VEVENT
BEGIN:VEVENT
UID:Mairie de Cournonsec (34)-30847
DTSTAMP:20260422T200142Z
SUMMARY:Visio Terres de Liens
DESCRIPTION:Thierry & Camille
LOCATION:
DTSTART;TZID=Europe/Brussels:20260427T180000
DTEND;TZID=Europe/Brussels:20260427T190000
END:VEVENT
BEGIN:VEVENT
UID:Mairie de Cournonsec (34)-30849
DTSTAMP:20260422T200922Z
SUMMARY:Réu Orga
DESCRIPTION:
LOCATION:
DTSTART;TZID=Europe/Brussels:20260423T090000
DTEND;TZID=Europe/Brussels:20260423T120000
END:VEVENT
END:VCALENDAR