BEGIN:VCALENDAR
VERSION:2.0
PRODID:spatie/icalendar-generator
NAME:Agorakit : Association Chemins et Fontaines
X-WR-CALNAME:Agorakit : Association Chemins et Fontaines
DESCRIPTION:\n\n\n\n\n\nPromenades et randonnées en Xaintrie\nLes s
 entiers qui sillonnent la commune mènent des villages du plateau jusqu’
 au bord de la Dordogne. \nOn dévale les gorges sous les frondaisons nais
 santes et on peut admirer de magnifiques points de vue aménagés par l’
 association où l’on domine les méandres de la retenue du Chastang avec
  sur l’autre rive les villages de Saint-Martin-la-Méanne et Nougein. \
 nC’est le fruit du travail de nombreuses années de « Chemins et Fontai
 nes » \, association...
X-WR-CALDESC:\n\n\n\n\n\nPromenades et randonnées en Xaintrie\nLes 
 sentiers qui sillonnent la commune mènent des villages du plateau jusqu
 ’au bord de la Dordogne. \nOn dévale les gorges sous les frondaisons n
 aissantes et on peut admirer de magnifiques points de vue aménagés par l
 ’association où l’on domine les méandres de la retenue du Chastang a
 vec sur l’autre rive les villages de Saint-Martin-la-Méanne et Nougein.
  \nC’est le fruit du travail de nombreuses années de « Chemins et Fon
 taines » \, association...
BEGIN:VTIMEZONE
TZID:Europe/Brussels
BEGIN:STANDARD
DTSTART:20251026T030000
TZOFFSETFROM:+0200
TZOFFSETTO:+0100
END:STANDARD
BEGIN:DAYLIGHT
DTSTART:20260329T010000
TZOFFSETFROM:+0100
TZOFFSETTO:+0200
END:DAYLIGHT
END:VTIMEZONE
BEGIN:VTIMEZONE
TZID:UTC
BEGIN:STANDARD
DTSTART:20250629T155231
TZOFFSETFROM:+0000
TZOFFSETTO:+0000
END:STANDARD
END:VTIMEZONE
BEGIN:VEVENT
UID:Association Chemins et Fontaines-30620
DTSTAMP:20260326T155231Z
SUMMARY:Journée Bénévole - focus sur le Point de Vue de Bassignac Le Hau
 t
DESCRIPTION:Venez aider l'association à maintenir les chemins de randonn
 ées de la Xaintrie.Accueil : 8h30 - Mairie de Bassignac Le HautDépart :
  9h00 - Point de Vue de Bassignac Le HautAffectation d'équipes\, pr...
LOCATION:point de vue de Bassignac Le Haut\, Mairie\, Bassignac-le-Haut\, F
 rance
DTSTART;TZID=Europe/Brussels:20260418T083000
DTEND;TZID=Europe/Brussels:20260418T120000
END:VEVENT
END:VCALENDAR