BEGIN:VCALENDAR
VERSION:2.0
PRODID:spatie/icalendar-generator
NAME:Agorakit : Oahu Music
X-WR-CALNAME:Agorakit : Oahu Music
DESCRIPTION:Community-powered live music hub for the island of Oahu.
X-WR-CALDESC:Community-powered live music hub for the island of Oahu.
BEGIN:VTIMEZONE
TZID:Europe/Brussels
BEGIN:STANDARD
DTSTART:20251026T030000
TZOFFSETFROM:+0200
TZOFFSETTO:+0100
END:STANDARD
BEGIN:DAYLIGHT
DTSTART:20260329T010000
TZOFFSETFROM:+0100
TZOFFSETTO:+0200
END:DAYLIGHT
END:VTIMEZONE
BEGIN:VTIMEZONE
TZID:UTC
BEGIN:STANDARD
DTSTART:20250327T023043
TZOFFSETFROM:+0000
TZOFFSETTO:+0000
END:STANDARD
END:VTIMEZONE
BEGIN:VEVENT
UID:Oahu Music-29647
DTSTAMP:20251222T023043Z
SUMMARY:Studio 909 Jam Session
DESCRIPTION:Monthly Jam Session in Studio 909 at the Musicians Association 
 of Hawaii AFM Local 677 hosted by Abe Lagrimas Jr.
LOCATION:Studio 909\, 909 Kapiolani Blvd\, Honolulu\, Honolulu\, United Sta
 tes
DTSTART;TZID=Europe/Brussels:20260119T180000
DTEND;TZID=Europe/Brussels:20260119T210000
END:VEVENT
END:VCALENDAR