BEGIN:VCALENDAR
VERSION:2.0
PRODID:spatie/icalendar-generator
NAME:Agorakit : Artifaille
X-WR-CALNAME:Agorakit : Artifaille
DESCRIPTION:\n  \n    \n\n  \n          \n            Association à 
 but non lucratif d'aide à la réappropriation numérique à Caen\n\nMai
 son des Solidarités - Boulevard Aristide Briand\n\n14000 - Caen\n\n  
     \n      \n
X-WR-CALDESC:\n  \n    \n\n  \n          \n            Association à
  but non lucratif d'aide à la réappropriation numérique à Caen\n\nMa
 ison des Solidarités - Boulevard Aristide Briand\n\n14000 - Caen\n\n 
      \n      \n
BEGIN:VTIMEZONE
TZID:Europe/Brussels
BEGIN:STANDARD
DTSTART:20241027T030000
TZOFFSETFROM:+0200
TZOFFSETTO:+0100
END:STANDARD
BEGIN:DAYLIGHT
DTSTART:20250330T010000
TZOFFSETFROM:+0100
TZOFFSETTO:+0200
END:DAYLIGHT
BEGIN:STANDARD
DTSTART:20251026T030000
TZOFFSETFROM:+0200
TZOFFSETTO:+0100
END:STANDARD
END:VTIMEZONE
BEGIN:VTIMEZONE
TZID:UTC
BEGIN:STANDARD
DTSTART:20240831T120524
TZOFFSETFROM:+0000
TZOFFSETTO:+0000
END:STANDARD
END:VTIMEZONE
BEGIN:VEVENT
UID:Artifaille-27813
DTSTAMP:20250528T120524Z
SUMMARY:Evenement Test
DESCRIPTION:TEST
LOCATION:MDS2\, 7 rue Daniel Huet\, CAEN\, 14000\, France
DTSTART;TZID=Europe/Brussels:20250527T140400
DTEND;TZID=Europe/Brussels:20250527T180000
END:VEVENT
END:VCALENDAR