BEGIN:VCALENDAR
VERSION:2.0
PRODID:spatie/icalendar-generator
NAME:Agorakit : Adour\, personnalité juridique
X-WR-CALNAME:Agorakit : Adour\, personnalité juridique
DESCRIPTION:Nous sommes un collectif engagé dans la création d'un nouveau
  récit pour le fleuve Adour\, afin de lui donner le respect qu'il mérite
  : être reconnu comme une entité naturelle juridique. Initiative lancée
  par le CADE (Collectif d'Associations de Défense de l'Environnement)\, r
 egroupant une 60aine d'associations\, le collectif est ouvert à toute per
 sonne ou structure volontaire.Le droit de l’environnement ne suffit pas
  à prévenir les atteintes au milieu\, en particulier les atteintes sur l
 es cours...
X-WR-CALDESC:Nous sommes un collectif engagé dans la création d'un nouvea
 u récit pour le fleuve Adour\, afin de lui donner le respect qu'il mérit
 e : être reconnu comme une entité naturelle juridique. Initiative lancé
 e par le CADE (Collectif d'Associations de Défense de l'Environnement)\, 
 regroupant une 60aine d'associations\, le collectif est ouvert à toute pe
 rsonne ou structure volontaire.Le droit de l’environnement ne suffit pa
 s à prévenir les atteintes au milieu\, en particulier les atteintes sur 
 les cours...
BEGIN:VTIMEZONE
TZID:Europe/Brussels
BEGIN:STANDARD
DTSTART:20241027T030000
TZOFFSETFROM:+0200
TZOFFSETTO:+0100
END:STANDARD
BEGIN:DAYLIGHT
DTSTART:20250330T010000
TZOFFSETFROM:+0100
TZOFFSETTO:+0200
END:DAYLIGHT
BEGIN:STANDARD
DTSTART:20251026T030000
TZOFFSETFROM:+0200
TZOFFSETTO:+0100
END:STANDARD
END:VTIMEZONE
BEGIN:VTIMEZONE
TZID:UTC
BEGIN:STANDARD
DTSTART:20240530T181933
TZOFFSETFROM:+0000
TZOFFSETTO:+0000
END:STANDARD
END:VTIMEZONE
BEGIN:VEVENT
UID:Adour\, personnalité juridique-26637
DTSTAMP:20250224T181933Z
SUMMARY:semaine des rivières - présence Uramap
DESCRIPTION:Le Syndicat Mixte des Rivières Côte Sud organisera ainsi\, 
 pour la seconde fois\, cet événement inscrit dans le cadre de la Semaine
  des Rivières\, une manifestation nationale dédiée aux milieux aquati..
 .
LOCATION:saint vincent de tyrosse
DTSTART;TZID=Europe/Brussels:20250601T000000
DTEND;TZID=Europe/Brussels:20250601T235900
END:VEVENT
END:VCALENDAR