BEGIN:VCALENDAR
VERSION:2.0
PRODID:spatie/icalendar-generator
NAME:Agorakit : Répètes
X-WR-CALNAME:Agorakit : Répètes
DESCRIPTION:Répet
X-WR-CALDESC:Répet
BEGIN:VTIMEZONE
TZID:Europe/Brussels
BEGIN:DAYLIGHT
DTSTART:20240331T010000
TZOFFSETFROM:+0100
TZOFFSETTO:+0200
END:DAYLIGHT
BEGIN:STANDARD
DTSTART:20241027T030000
TZOFFSETFROM:+0200
TZOFFSETTO:+0100
END:STANDARD
END:VTIMEZONE
BEGIN:VTIMEZONE
TZID:UTC
BEGIN:STANDARD
DTSTART:20230930T155911
TZOFFSETFROM:+0000
TZOFFSETTO:+0000
END:STANDARD
END:VTIMEZONE
BEGIN:VEVENT
UID:Répètes-24105
DTSTAMP:20240626T210917Z
SUMMARY:Patrick
DESCRIPTION:
LOCATION:
DTSTART;TZID=Europe/Brussels:20240824T130000
DTEND;TZID=Europe/Brussels:20240824T230000
END:VEVENT
BEGIN:VEVENT
UID:Répètes-24104
DTSTAMP:20240626T210840Z
SUMMARY:Patrick
DESCRIPTION:
LOCATION:
DTSTART;TZID=Europe/Brussels:20240823T130000
DTEND;TZID=Europe/Brussels:20240823T230000
END:VEVENT
BEGIN:VEVENT
UID:Répètes-24103
DTSTAMP:20240626T210813Z
SUMMARY:Patrick
DESCRIPTION:
LOCATION:
DTSTART;TZID=Europe/Brussels:20240817T130000
DTEND;TZID=Europe/Brussels:20240817T230000
END:VEVENT
BEGIN:VEVENT
UID:Répètes-24101
DTSTAMP:20240626T155911Z
SUMMARY:Patrick
DESCRIPTION:
LOCATION:
DTSTART;TZID=Europe/Brussels:20240816T130000
DTEND;TZID=Europe/Brussels:20240816T230000
END:VEVENT
END:VCALENDAR