BEGIN:VCALENDAR
VERSION:2.0
PRODID:spatie/icalendar-generator
NAME:Agorakit : Valorisation des activités juin 2024
X-WR-CALNAME:Agorakit : Valorisation des activités juin 2024
DESCRIPTION:Espace d'échanges de la formation Valorisation des activités 
 Juin 2024
X-WR-CALDESC:Espace d'échanges de la formation Valorisation des activités
  Juin 2024
BEGIN:VTIMEZONE
TZID:Europe/Brussels
BEGIN:STANDARD
DTSTART:20231029T030000
TZOFFSETFROM:+0200
TZOFFSETTO:+0100
END:STANDARD
BEGIN:DAYLIGHT
DTSTART:20240331T010000
TZOFFSETFROM:+0100
TZOFFSETTO:+0200
END:DAYLIGHT
BEGIN:STANDARD
DTSTART:20241027T030000
TZOFFSETFROM:+0200
TZOFFSETTO:+0100
END:STANDARD
END:VTIMEZONE
BEGIN:VTIMEZONE
TZID:UTC
BEGIN:STANDARD
DTSTART:20230908T095830
TZOFFSETFROM:+0000
TZOFFSETTO:+0000
END:STANDARD
END:VTIMEZONE
BEGIN:VEVENT
UID:Valorisation des activités juin 2024-23895
DTSTAMP:20240604T095830Z
SUMMARY:Formation valorisation des activités
DESCRIPTION:Apef
LOCATION:Nivelles
DTSTART;TZID=Europe/Brussels:20240604T090300
DTEND;TZID=Europe/Brussels:20240604T163000
END:VEVENT
END:VCALENDAR