BEGIN:VCALENDAR
VERSION:2.0
PRODID:spatie/icalendar-generator
NAME:Agorakit : SOLARIS IJ 32
X-WR-CALNAME:Agorakit : SOLARIS IJ 32
DESCRIPTION:COLLECTIF REUNI AUTOUR DU \"COMMENT MIEUX VIVRE ENSEMBLE SUR NO
 TRE TERRITOIRE\"
X-WR-CALDESC:COLLECTIF REUNI AUTOUR DU \"COMMENT MIEUX VIVRE ENSEMBLE SUR N
 OTRE TERRITOIRE\"
BEGIN:VTIMEZONE
TZID:Europe/Brussels
BEGIN:DAYLIGHT
DTSTART:20230326T010000
TZOFFSETFROM:+0100
TZOFFSETTO:+0200
END:DAYLIGHT
BEGIN:STANDARD
DTSTART:20231029T030000
TZOFFSETFROM:+0200
TZOFFSETTO:+0100
END:STANDARD
BEGIN:DAYLIGHT
DTSTART:20240331T010000
TZOFFSETFROM:+0100
TZOFFSETTO:+0200
END:DAYLIGHT
END:VTIMEZONE
BEGIN:VTIMEZONE
TZID:UTC
BEGIN:STANDARD
DTSTART:20230214T170219
TZOFFSETFROM:+0000
TZOFFSETTO:+0000
END:STANDARD
END:VTIMEZONE
BEGIN:VEVENT
UID:SOLARIS IJ 32-22641
DTSTAMP:20240301T091934Z
SUMMARY:Atelier Proposé par Caroline Marsol
DESCRIPTION:atelier pratique  : je vous montre comment faire du beurre cla
 rifié\,  appelé ghee \, utilisé en Ayurvéda. le vendredi 12 avril 18H
  \; il faut compter une  heure et demi d'atelier. suivi après d'un pe...
LOCATION:Mu dan 23 ter Callé Carballo 
DTSTART;TZID=Europe/Brussels:20240412T180000
DTEND;TZID=Europe/Brussels:20240412T190000
END:VEVENT
BEGIN:VEVENT
UID:SOLARIS IJ 32-22069
DTSTAMP:20240128T180343Z
SUMMARY:Soirée thématique Problèmatiques sociétales actuelles et leurs 
 origines
DESCRIPTION:★Prochaine soirée thématique Vendredi 2 février à partir 
 de 19h30 pour l'auberge Espagnole\, 20h pour le débat.★ !!!Attention!!!
  Nouveau lieu «Salle Anna Marly - 4 avenue du Courdé 32600 L'IJ» Au de.
 ..
LOCATION:Salle Anna Marly 4 av du Courd
DTSTART;TZID=Europe/Brussels:20240202T193000
DTEND;TZID=Europe/Brussels:20240202T230000
END:VEVENT
BEGIN:VEVENT
UID:SOLARIS IJ 32-21591
DTSTAMP:20231230T083043Z
SUMMARY:Conférence Desert
DESCRIPTION:c 'est avec joie que je vous invite à participer à la confér
 ence  gratuite de mon amie\, Martine Scalzotto\,qui vous parlera de sa p
 assion du désert le mardi 30 janvier\, à 19H\, au centre Mudan.Voir l..
 .
LOCATION:
DTSTART;TZID=Europe/Brussels:20240130T190000
DTEND;TZID=Europe/Brussels:20240130T210000
END:VEVENT
BEGIN:VEVENT
UID:SOLARIS IJ 32-20887
DTSTAMP:20231111T170219Z
SUMMARY:SOIREE THEMATIQUE
DESCRIPTION:SUJET ET LIEU A DEFINIR
LOCATION:32600 IJ
DTSTART;TZID=Europe/Brussels:20231205T193000
DTEND;TZID=Europe/Brussels:20231205T220000
END:VEVENT
END:VCALENDAR