BEGIN:VCALENDAR
VERSION:2.0
PRODID:spatie/icalendar-generator
NAME:Agorakit : RDV militants
X-WR-CALNAME:Agorakit : RDV militants
DESCRIPTION:les rendez-vous militants et syndicaux
X-WR-CALDESC:les rendez-vous militants et syndicaux
BEGIN:VTIMEZONE
TZID:Europe/Brussels
BEGIN:DAYLIGHT
DTSTART:20230326T010000
TZOFFSETFROM:+0100
TZOFFSETTO:+0200
END:DAYLIGHT
BEGIN:STANDARD
DTSTART:20231029T030000
TZOFFSETFROM:+0200
TZOFFSETTO:+0100
END:STANDARD
BEGIN:DAYLIGHT
DTSTART:20240331T010000
TZOFFSETFROM:+0100
TZOFFSETTO:+0200
END:DAYLIGHT
END:VTIMEZONE
BEGIN:VTIMEZONE
TZID:UTC
BEGIN:STANDARD
DTSTART:20221222T091023
TZOFFSETFROM:+0000
TZOFFSETTO:+0000
END:STANDARD
END:VTIMEZONE
BEGIN:VEVENT
UID:RDV militants-20090
DTSTAMP:20230918T092117Z
SUMMARY:rencontre conviviale et concert
DESCRIPTION:
LOCATION:UL de Nantes
DTSTART;TZID=Europe/Brussels:20231005T190000
DTEND;TZID=Europe/Brussels:20231005T220000
END:VEVENT
BEGIN:VEVENT
UID:RDV militants-20089
DTSTAMP:20230918T091023Z
SUMMARY:remise en forme + pétanque/palet
DESCRIPTION:
LOCATION:Vincent Gâche
DTSTART;TZID=Europe/Brussels:20230926T183000
DTEND;TZID=Europe/Brussels:20230926T210000
END:VEVENT
END:VCALENDAR