BEGIN:VCALENDAR
VERSION:2.0
PRODID:spatie/icalendar-generator
NAME:Agorakit : La Régionale de Lille de l'APMEP
X-WR-CALNAME:Agorakit : La Régionale de Lille de l'APMEP
DESCRIPTION:f:27625
X-WR-CALDESC:f:27625
BEGIN:VTIMEZONE
TZID:Europe/Brussels
BEGIN:STANDARD
DTSTART:20221030T030000
TZOFFSETFROM:+0200
TZOFFSETTO:+0100
END:STANDARD
BEGIN:DAYLIGHT
DTSTART:20230326T010000
TZOFFSETFROM:+0100
TZOFFSETTO:+0200
END:DAYLIGHT
END:VTIMEZONE
BEGIN:VTIMEZONE
TZID:UTC
BEGIN:STANDARD
DTSTART:20220622T161757
TZOFFSETFROM:+0000
TZOFFSETTO:+0000
END:STANDARD
END:VTIMEZONE
BEGIN:VEVENT
UID:La Régionale de Lille de l'APMEP-17998
DTSTAMP:20230319T161757Z
SUMMARY:Forum académique des LABOratoires de MATHématiques
DESCRIPTION:Forum académique des LABOratoires de MATHématiques
LOCATION:Lilliad Learning center Innova
DTSTART;TZID=Europe/Brussels:20230328T080000
DTEND;TZID=Europe/Brussels:20230329T180000
END:VEVENT
END:VCALENDAR