BEGIN:VCALENDAR
VERSION:2.0
PRODID:spatie/icalendar-generator
NAME:Agorakit : Chantier au Soustre
X-WR-CALNAME:Agorakit : Chantier au Soustre
DESCRIPTION:Agora pour l'organisation du Chantier au Soustre
X-WR-CALDESC:Agora pour l'organisation du Chantier au Soustre
BEGIN:VTIMEZONE
TZID:Europe/Brussels
BEGIN:STANDARD
DTSTART:20231029T030000
TZOFFSETFROM:+0200
TZOFFSETTO:+0100
END:STANDARD
BEGIN:DAYLIGHT
DTSTART:20240331T010000
TZOFFSETFROM:+0100
TZOFFSETTO:+0200
END:DAYLIGHT
END:VTIMEZONE
BEGIN:VTIMEZONE
TZID:UTC
BEGIN:STANDARD
DTSTART:20220727T105209
TZOFFSETFROM:+0000
TZOFFSETTO:+0000
END:STANDARD
END:VTIMEZONE
BEGIN:VEVENT
UID:Chantier au Soustre-19041
DTSTAMP:20230606T070029Z
SUMMARY:CHANTIER RENARDES 5 : Levage
DESCRIPTION:
LOCATION:
DTSTART;TZID=Europe/Brussels:20240401T000000
DTEND;TZID=Europe/Brussels:20240414T235900
END:VEVENT
BEGIN:VEVENT
UID:Chantier au Soustre-19040
DTSTAMP:20230606T065923Z
SUMMARY:CHANTIER RENARDES 5 : Taille
DESCRIPTION:
LOCATION:Soustre
DTSTART;TZID=Europe/Brussels:20240226T000000
DTEND;TZID=Europe/Brussels:20240317T235900
END:VEVENT
BEGIN:VEVENT
UID:Chantier au Soustre-18440
DTSTAMP:20230423T105209Z
SUMMARY:Noel compta des renardes en combi
DESCRIPTION:
LOCATION:
DTSTART;TZID=Europe/Brussels:20231223T000000
DTEND;TZID=Europe/Brussels:20231225T235900
END:VEVENT
END:VCALENDAR