BEGIN:VCALENDAR
VERSION:2.0
PRODID:spatie/icalendar-generator
NAME:Agorakit : Graine des montagnes
X-WR-CALNAME:Agorakit : Graine des montagnes
DESCRIPTION:Maison des semences paysannes des Hautes AlpesLa Maison des Sem
 ences Paysannes  est une association loi 1901 où les paysans\, les jardi
 niers et toutes personnes qui le souhaitent\, se réunissent pour défendr
 e les semences paysannes et leur libre utilisation. Elle trouve sa légiti
 mité dans son ancrage local : les Hautes-Alpes. Les variétés produites\
 , échangées et préservées sont adaptées aux terroirs.La semence Paysa
 nne est un commun\, comme l'eau et l'air. Elle est l'origine de toute notr
 e alime...
X-WR-CALDESC:Maison des semences paysannes des Hautes AlpesLa Maison des Se
 mences Paysannes  est une association loi 1901 où les paysans\, les jard
 iniers et toutes personnes qui le souhaitent\, se réunissent pour défend
 re les semences paysannes et leur libre utilisation. Elle trouve sa légit
 imité dans son ancrage local : les Hautes-Alpes. Les variétés produites
 \, échangées et préservées sont adaptées aux terroirs.La semence Pays
 anne est un commun\, comme l'eau et l'air. Elle est l'origine de toute not
 re alime...
BEGIN:VTIMEZONE
TZID:Europe/Brussels
BEGIN:STANDARD
DTSTART:20181028T030000
TZOFFSETFROM:+0200
TZOFFSETTO:+0100
END:STANDARD
BEGIN:DAYLIGHT
DTSTART:20190331T010000
TZOFFSETFROM:+0100
TZOFFSETTO:+0200
END:DAYLIGHT
BEGIN:STANDARD
DTSTART:20191027T030000
TZOFFSETFROM:+0200
TZOFFSETTO:+0100
END:STANDARD
END:VTIMEZONE
BEGIN:VTIMEZONE
TZID:UTC
BEGIN:STANDARD
DTSTART:20180327T203958
TZOFFSETFROM:+0000
TZOFFSETTO:+0000
END:STANDARD
END:VTIMEZONE
BEGIN:VEVENT
UID:Graine des montagnes-1159
DTSTAMP:20190312T155805Z
SUMMARY:Journée des savoir-faire oubliés
DESCRIPTION:En accord avec la municipalité de Villard Saint Pancrace\, ces
  journées traditionnelles ont été fixées au dimanche 21 juillet et 
 mercredi 7 août\, de 10 à 18 h sur l’espace fours de Villard Saint Pan
 ...
LOCATION:Villard Saint Pancrace
DTSTART;TZID=Europe/Brussels:20190807T090000
DTEND;TZID=Europe/Brussels:20190807T180000
END:VEVENT
BEGIN:VEVENT
UID:Graine des montagnes-1158
DTSTAMP:20190312T155531Z
SUMMARY:Journée des savoir-faire oubliés
DESCRIPTION:En accord avec la municipalité de Villard Saint Pancrace\, ces
  journées traditionnelles ont été fixées au dimanche 21 juillet et 
 mercredi 7 août\, de 10 à 18 h sur l’espace fours de Villard Saint Pan
 ...
LOCATION:Villard Saint Pancrace
DTSTART;TZID=Europe/Brussels:20190721T090000
DTEND;TZID=Europe/Brussels:20190721T180000
END:VEVENT
BEGIN:VEVENT
UID:Graine des montagnes-995
DTSTAMP:20190213T083550Z
SUMMARY:Fête des fleurs 
DESCRIPTION:Grande fête des fleurs dans le Queyras\, évenement incontourn
 able où nous sommes cordialement invité depuis 3 ans.la maison des semen
 ces paysannes sera présente avec son stand.
LOCATION:Abriès en queyras
DTSTART;TZID=Europe/Brussels:20190714T090000
DTEND;TZID=Europe/Brussels:20190714T170000
END:VEVENT
BEGIN:VEVENT
UID:Graine des montagnes-676
DTSTAMP:20190102T154219Z
SUMMARY:Rencontres européenne au Danemark
DESCRIPTION:The European Diversity Cereal Festival in Denmark will bring to
 gether parallel sessions of baking workshops\, beer workshops\, field demo
 nstrations\, market place\, posters and lectures. Participants w...
LOCATION:Danemark\n
DTSTART;TZID=Europe/Brussels:20190626T090000
DTEND;TZID=Europe/Brussels:20190628T180000
END:VEVENT
BEGIN:VEVENT
UID:Graine des montagnes-651
DTSTAMP:20181222T210302Z
SUMMARY:Les Artsgricoles
DESCRIPTION:Festival qui se déroule autour de la musique\, de spectacles e
 t bien sûr de l'agriculture
LOCATION:Auberge de jeunesse de Guilles
DTSTART;TZID=Europe/Brussels:20190615T100000
DTEND;TZID=Europe/Brussels:20190616T000000
END:VEVENT
BEGIN:VEVENT
UID:Graine des montagnes-939
DTSTAMP:20190204T202304Z
SUMMARY:C'est l'heure de preparer les légumes d'automne
DESCRIPTION:Ca y est\, les premiers légumes sont dans vos assiettes\, mais
  ceux d'automne doivent être préparés\, c'est le moment. Suivez les con
 seil d'un maraicher expérimenté
LOCATION:Le potazer du Villard\, route d
DTSTART;TZID=Europe/Brussels:20190601T140000
DTEND;TZID=Europe/Brussels:20190601T173000
END:VEVENT
BEGIN:VEVENT
UID:Graine des montagnes-993
DTSTAMP:20190213T083045Z
SUMMARY:Festival des plantes de Montagnes 
DESCRIPTION:4 ième édition de ce festival autour des plantes des montagne
 s\, organisé par l'association Alpiflore. Cette année\, il aura lieu a M
 ont Dauphin sur la place forte. La maison des semences paysannes s...
LOCATION:Mont dauphin fort
DTSTART;TZID=Europe/Brussels:20190526T090000
DTEND;TZID=Europe/Brussels:20190526T170000
END:VEVENT
BEGIN:VEVENT
UID:Graine des montagnes-1183
DTSTAMP:20190315T075235Z
SUMMARY:Foire aux plants
DESCRIPTION:Foire aux plants
LOCATION:05500 Saint-Bonnet
DTSTART;TZID=Europe/Brussels:20190519T080000
DTEND;TZID=Europe/Brussels:20190519T090000
END:VEVENT
BEGIN:VEVENT
UID:Graine des montagnes-1182
DTSTAMP:20190315T075103Z
SUMMARY:Foire aux plants
DESCRIPTION:Foire aux plants
LOCATION:05190 Espinasses
DTSTART;TZID=Europe/Brussels:20190512T080000
DTEND;TZID=Europe/Brussels:20190512T090000
END:VEVENT
BEGIN:VEVENT
UID:Graine des montagnes-1180
DTSTAMP:20190315T074849Z
SUMMARY:Fête des plants bio
DESCRIPTION:Fête des plants bio
LOCATION:38710 Mens
DTSTART;TZID=Europe/Brussels:20190508T090000
DTEND;TZID=Europe/Brussels:20190508T100000
END:VEVENT
BEGIN:VEVENT
UID:Graine des montagnes-1181
DTSTAMP:20190315T075008Z
SUMMARY:Foire aux plants
DESCRIPTION:Foire aux plants
LOCATION:05300 Ribiers
DTSTART;TZID=Europe/Brussels:20190508T080000
DTEND;TZID=Europe/Brussels:20190508T090000
END:VEVENT
BEGIN:VEVENT
UID:Graine des montagnes-994
DTSTAMP:20190213T083351Z
SUMMARY:Fête des plants et de la biodiversité 
DESCRIPTION:Fête des plants et de la biodiversité\, organisé parle centr
 e de sauvegarde de la faune et la flore. La maison des semences paysannes 
 sera présente avec son stand.
LOCATION:Plan de vitrolles\, 05
DTSTART;TZID=Europe/Brussels:20190505T090000
DTEND;TZID=Europe/Brussels:20190505T170000
END:VEVENT
BEGIN:VEVENT
UID:Graine des montagnes-962
DTSTAMP:20190207T102922Z
SUMMARY:Fête des plants et de la biodiversité
DESCRIPTION:Foire aux plants\, stands producteurs et artisans locaux\, expo
  photos\, concert...
LOCATION:Plan de Vitrolles\n05110 Vitro
DTSTART;TZID=Europe/Brussels:20190505T090000
DTEND;TZID=Europe/Brussels:20190505T170000
END:VEVENT
BEGIN:VEVENT
UID:Graine des montagnes-937
DTSTAMP:20190204T200955Z
SUMMARY:Atelier jardin 
DESCRIPTION:Christian vous fera partager son jardin familial cultivé depui
 s plus de 25 ans. Il vous parlera de leur choix de cultiver soit même son
  alimentation\, donc d'autonomie mais aussi et surtout de la sc...
LOCATION: les Isclasses\, 05600 Guillest
DTSTART;TZID=Europe/Brussels:20190504T140000
DTEND;TZID=Europe/Brussels:20190504T173000
END:VEVENT
BEGIN:VEVENT
UID:Graine des montagnes-938
DTSTAMP:20190204T201954Z
SUMMARY:Visite du jardin de Fafa
DESCRIPTION:Le printemps pointe son nez\, la préparation du jardin aussi. 
 La visite du Jardin de la ferme Vauban sera l'occasion d'échanger sur un 
 parcours dans l'agriculture à travers l'administration mais aus...
LOCATION:La ferme vauban\, le coin\, Eygl
DTSTART;TZID=Europe/Brussels:20190406T140000
DTEND;TZID=Europe/Brussels:20190406T173000
END:VEVENT
BEGIN:VEVENT
UID:Graine des montagnes-1053
DTSTAMP:20190221T073126Z
SUMMARY:Autonomie\, entraide et solidarités : pourquoi et comment les dév
 elopper dans le Buëch ?
DESCRIPTION:Dans le Buëch\, des projets portés collectivement par les hab
 itants ont \nvu le jour dans des domaines variés : jardin collectif\, gr
 effes\, \nmatériaux de construction\, manifestations culturelles\, mo...
LOCATION:Eyguians
DTSTART;TZID=Europe/Brussels:20190222T183000
DTEND;TZID=Europe/Brussels:20190222T193000
END:VEVENT
BEGIN:VEVENT
UID:Graine des montagnes-961
DTSTAMP:20190206T182331Z
SUMMARY:Rencontre tomate
DESCRIPTION:Lors de notre dernière rencontre à Die cet été\, Fafa nous 
 a proposé d'accueillir la prochaine rencontre du groupe tomates chez lui
  Concernant le programme :Discussion et échanges autour des résulta...
LOCATION:la ferme de vauban\, Eygliers\, 
DTSTART;TZID=Europe/Brussels:20190209T090000
DTEND;TZID=Europe/Brussels:20190210T160000
END:VEVENT
BEGIN:VEVENT
UID:Graine des montagnes-650
DTSTAMP:20181222T203958Z
SUMMARY:rencontre européen 
DESCRIPTION:Rencontre de la EC-LLD dans le programme DYNAVERSITY
LOCATION:Budapest
DTSTART;TZID=Europe/Brussels:20190115T090000
DTEND;TZID=Europe/Brussels:20190116T180000
END:VEVENT
END:VCALENDAR