BEGIN:VCALENDAR
VERSION:2.0
PRODID:spatie/icalendar-generator
NAME:Agorakit : Team IAD Ubuntu 
X-WR-CALNAME:Agorakit : Team IAD Ubuntu 
DESCRIPTION:Team Ubuntu - groupe IAD france
X-WR-CALDESC:Team Ubuntu - groupe IAD france
BEGIN:VTIMEZONE
TZID:Europe/Brussels
BEGIN:STANDARD
DTSTART:20211031T030000
TZOFFSETFROM:+0200
TZOFFSETTO:+0100
END:STANDARD
BEGIN:DAYLIGHT
DTSTART:20220327T010000
TZOFFSETFROM:+0100
TZOFFSETTO:+0200
END:DAYLIGHT
BEGIN:STANDARD
DTSTART:20221030T030000
TZOFFSETFROM:+0200
TZOFFSETTO:+0100
END:STANDARD
END:VTIMEZONE
BEGIN:VTIMEZONE
TZID:UTC
BEGIN:STANDARD
DTSTART:20210802T191345
TZOFFSETFROM:+0000
TZOFFSETTO:+0000
END:STANDARD
END:VTIMEZONE
BEGIN:VEVENT
UID:Team IAD Ubuntu -12866
DTSTAMP:20220429T191345Z
SUMMARY:Shooting DAY - 9h00 -> 19h00
DESCRIPTION:cliquer sur la zone \"toute la journée\" pour rentrer votre cr
 éneau horaire de 30mn
LOCATION:17 rue de Bigorre\, 65100 ADE
DTSTART;TZID=Europe/Brussels:20220609T090000
DTEND;TZID=Europe/Brussels:20220609T193000
END:VEVENT
END:VCALENDAR