BEGIN:VCALENDAR
VERSION:2.0
PRODID:spatie/icalendar-generator
NAME:Agorakit : MoVimento 5 Stelle Terni
X-WR-CALNAME:Agorakit : MoVimento 5 Stelle Terni
DESCRIPTION:Questo gruppo nasce come strumento di coordinamento rapido per 
 gli iscritti ed i simpatizzanti del Movimento 5 Stelle ternano e per tutti
  i simpatizzanti di Giuseppe Conte
X-WR-CALDESC:Questo gruppo nasce come strumento di coordinamento rapido per
  gli iscritti ed i simpatizzanti del Movimento 5 Stelle ternano e per tutt
 i i simpatizzanti di Giuseppe Conte
BEGIN:VTIMEZONE
TZID:Europe/Brussels
BEGIN:STANDARD
DTSTART:20211031T030000
TZOFFSETFROM:+0200
TZOFFSETTO:+0100
END:STANDARD
BEGIN:DAYLIGHT
DTSTART:20220327T010000
TZOFFSETFROM:+0100
TZOFFSETTO:+0200
END:DAYLIGHT
END:VTIMEZONE
BEGIN:VTIMEZONE
TZID:UTC
BEGIN:STANDARD
DTSTART:20210619T181721
TZOFFSETFROM:+0000
TZOFFSETTO:+0000
END:STANDARD
END:VTIMEZONE
BEGIN:VEVENT
UID:MoVimento 5 Stelle Terni-12125
DTSTAMP:20220316T181721Z
SUMMARY:evento prova
DESCRIPTION:gazebo piazza europa
LOCATION:Terni
DTSTART;TZID=Europe/Brussels:20220316T210000
DTEND;TZID=Europe/Brussels:20220316T230000
END:VEVENT
END:VCALENDAR