BEGIN:VCALENDAR
VERSION:2.0
PRODID:spatie/icalendar-generator
NAME:Agorakit : Café Bricol'
X-WR-CALNAME:Agorakit : Café Bricol'
DESCRIPTION:Evaluation du logiciel pour furur site cafebricol.fr
X-WR-CALDESC:Evaluation du logiciel pour furur site cafebricol.fr
BEGIN:VTIMEZONE
TZID:Europe/Brussels
BEGIN:STANDARD
DTSTART:20211031T030000
TZOFFSETFROM:+0200
TZOFFSETTO:+0100
END:STANDARD
BEGIN:DAYLIGHT
DTSTART:20220327T010000
TZOFFSETFROM:+0100
TZOFFSETTO:+0200
END:DAYLIGHT
BEGIN:STANDARD
DTSTART:20221030T030000
TZOFFSETFROM:+0200
TZOFFSETTO:+0100
END:STANDARD
BEGIN:DAYLIGHT
DTSTART:20230326T010000
TZOFFSETFROM:+0100
TZOFFSETTO:+0200
END:DAYLIGHT
BEGIN:STANDARD
DTSTART:20231029T030000
TZOFFSETFROM:+0200
TZOFFSETTO:+0100
END:STANDARD
BEGIN:DAYLIGHT
DTSTART:20240331T010000
TZOFFSETFROM:+0100
TZOFFSETTO:+0200
END:DAYLIGHT
BEGIN:STANDARD
DTSTART:20241027T030000
TZOFFSETFROM:+0200
TZOFFSETTO:+0100
END:STANDARD
BEGIN:DAYLIGHT
DTSTART:20250330T010000
TZOFFSETFROM:+0100
TZOFFSETTO:+0200
END:DAYLIGHT
BEGIN:STANDARD
DTSTART:20251026T030000
TZOFFSETFROM:+0200
TZOFFSETTO:+0100
END:STANDARD
END:VTIMEZONE
BEGIN:VTIMEZONE
TZID:UTC
BEGIN:STANDARD
DTSTART:20210502T212712
TZOFFSETFROM:+0000
TZOFFSETTO:+0000
END:STANDARD
END:VTIMEZONE
BEGIN:VEVENT
UID:Café Bricol'-27889
DTSTAMP:20250608T070655Z
SUMMARY:test
DESCRIPTION:kdfyudydf
LOCATION:la tour\, 12 rue d'arcachon 31200\, Toulouse
DTSTART;TZID=Europe/Brussels:20250609T160900
DTEND;TZID=Europe/Brussels:20250609T235900
END:VEVENT
BEGIN:VEVENT
UID:Café Bricol'-20256
DTSTAMP:20230930T163737Z
SUMMARY:Séance Repair Café Pibrac
DESCRIPTION:\n  Réparer au lieu de jeter\n\n\n  Amenez vos petits appa
 reils électroménagers\, outillages\, audio et \ninformatiques qui ne fo
 nctionnent plus\, il est peut-être possible \nd'éviter la déchetterie.
 ...
LOCATION:Pibrac
DTSTART;TZID=Europe/Brussels:20231011T173000
DTEND;TZID=Europe/Brussels:20231011T203000
END:VEVENT
BEGIN:VEVENT
UID:Café Bricol'-11666
DTSTAMP:20220220T204825Z
SUMMARY:Rendez-vous d'orga
DESCRIPTION:
LOCATION:Collectif La Maison\, 31250 Ram
DTSTART;TZID=Europe/Brussels:20220625T140000
DTEND;TZID=Europe/Brussels:20220625T150000
END:VEVENT
BEGIN:VEVENT
UID:Café Bricol'-11668
DTSTAMP:20220220T205428Z
SUMMARY:Atelier formation au dépannage des Moteurs électriques seconde pa
 rtie
DESCRIPTION:
LOCATION:CPIE Terre Toulousaine\, Rue d'
DTSTART;TZID=Europe/Brussels:20220602T180000
DTEND;TZID=Europe/Brussels:20220602T190000
END:VEVENT
BEGIN:VEVENT
UID:Café Bricol'-11665
DTSTAMP:20220220T204432Z
SUMMARY:Rendez-vous d'orga
DESCRIPTION:
LOCATION:Collectif La Maison\, 31250 Ram
DTSTART;TZID=Europe/Brussels:20220521T140000
DTEND;TZID=Europe/Brussels:20220521T150000
END:VEVENT
BEGIN:VEVENT
UID:Café Bricol'-11527
DTSTAMP:20220212T133911Z
SUMMARY:Atelier formation au dépannage des Moteurs électriques première 
 partie
DESCRIPTION:Résumé du contenu: Bases sur les moteurs électriques: magné
 tisme\, couple\, vitesse de rotation\, courant continu/alternatif\, change
 ment sens de rotation\, variation de vitesse.Connaissance des différe...
LOCATION:Rue d'Arcachon\, 31200 Toulouse
DTSTART;TZID=Europe/Brussels:20220519T180000
DTEND;TZID=Europe/Brussels:20220519T200000
END:VEVENT
BEGIN:VEVENT
UID:Café Bricol'-11664
DTSTAMP:20220220T204310Z
SUMMARY:Rendez-vous d'orga 
DESCRIPTION:
LOCATION:Collectif La Maison\, 31250 Ram
DTSTART;TZID=Europe/Brussels:20220416T140000
DTEND;TZID=Europe/Brussels:20220416T150000
END:VEVENT
BEGIN:VEVENT
UID:Café Bricol'-11667
DTSTAMP:20220220T205244Z
SUMMARY:Atelier formation au dépannage des Moteurs Thermiques
DESCRIPTION:Annonce provisoire
LOCATION:Collectif La Maison\, 31250 Ram
DTSTART;TZID=Europe/Brussels:20220402T100000
DTEND;TZID=Europe/Brussels:20220402T110000
END:VEVENT
BEGIN:VEVENT
UID:Café Bricol'-11662
DTSTAMP:20220220T195026Z
SUMMARY:Rendez-vous d'orga
DESCRIPTION:La Maison\, Ramonville
LOCATION:Collectif La Maison\, 31250 Ram
DTSTART;TZID=Europe/Brussels:20220326T140000
DTEND;TZID=Europe/Brussels:20220326T170000
END:VEVENT
BEGIN:VEVENT
UID:Café Bricol'-11744
DTSTAMP:20220227T102140Z
SUMMARY:Réunion Groupe Informatique Café Bricol'
DESCRIPTION:https://meet.jit.si/cafebricol
LOCATION:
DTSTART;TZID=Europe/Brussels:20220315T180000
DTEND;TZID=Europe/Brussels:20220315T235900
END:VEVENT
BEGIN:VEVENT
UID:Café Bricol'-11597
DTSTAMP:20220217T073341Z
SUMMARY:Formation appareils chauffants 2eme partie
DESCRIPTION:
LOCATION:Rue d'Arcachon \, 31200 Toulous
DTSTART;TZID=Europe/Brussels:20220217T180000
DTEND;TZID=Europe/Brussels:20220217T200000
END:VEVENT
BEGIN:VEVENT
UID:Café Bricol'-11745
DTSTAMP:20220227T102241Z
SUMMARY:Réunion Groupe Informatique Café Bricol'
DESCRIPTION:https://meet.jit.si/cafebricol
LOCATION:
DTSTART;TZID=Europe/Brussels:20220215T180000
DTEND;TZID=Europe/Brussels:20220215T200000
END:VEVENT
BEGIN:VEVENT
UID:Café Bricol'-11373
DTSTAMP:20220203T160053Z
SUMMARY:formation dépannage appareils chauffants première partie
DESCRIPTION:
LOCATION:rue d'arcachon 31200 toulouse 
DTSTART;TZID=Europe/Brussels:20220210T183000
DTEND;TZID=Europe/Brussels:20220210T203000
END:VEVENT
BEGIN:VEVENT
UID:Café Bricol'-11278
DTSTAMP:20220127T212712Z
SUMMARY:Rencontre
DESCRIPTION:
LOCATION:34 rue Brouardel
DTSTART;TZID=Europe/Brussels:20220131T221400
DTEND;TZID=Europe/Brussels:20220131T231400
END:VEVENT
END:VCALENDAR