BEGIN:VCALENDAR
VERSION:2.0
PRODID:spatie/icalendar-generator
NAME:Agorakit : הניסוי במעבדה
X-WR-CALNAME:Agorakit : הניסוי במעבדה
DESCRIPTION:תיאור תיאור תיאורתיאור ארוךךךךךךך
 ךךךךךך
X-WR-CALDESC:תיאור תיאור תיאורתיאור ארוךךךךךך
 ךךךךךךך
BEGIN:VTIMEZONE
TZID:Europe/Brussels
BEGIN:DAYLIGHT
DTSTART:20210328T010000
TZOFFSETFROM:+0100
TZOFFSETTO:+0200
END:DAYLIGHT
BEGIN:STANDARD
DTSTART:20211031T030000
TZOFFSETFROM:+0200
TZOFFSETTO:+0100
END:STANDARD
BEGIN:DAYLIGHT
DTSTART:20220327T010000
TZOFFSETFROM:+0100
TZOFFSETTO:+0200
END:DAYLIGHT
END:VTIMEZONE
BEGIN:VTIMEZONE
TZID:UTC
BEGIN:STANDARD
DTSTART:20210319T134845
TZOFFSETFROM:+0000
TZOFFSETTO:+0000
END:STANDARD
END:VTIMEZONE
BEGIN:VEVENT
UID:הניסוי במעבדה-10759
DTSTAMP:20211215T073102Z
SUMMARY:עוד אירוע כלשהו
DESCRIPTION:תיאורררררר
LOCATION:מיקום מוכר 2523\, תל
DTSTART;TZID=Europe/Brussels:20211215T083000
DTEND;TZID=Europe/Brussels:20211215T113100
END:VEVENT
BEGIN:VEVENT
UID:הניסוי במעבדה-10752
DTSTAMP:20211214T134845Z
SUMMARY:סדנת הקלדת פרטים אקראיים של אירועים 
 מומצאים
DESCRIPTION:תיאור תיאור תיאורתיאוררררררר
LOCATION:רחובסקי 52 תל סתי
DTSTART;TZID=Europe/Brussels:20211214T144700
DTEND;TZID=Europe/Brussels:20211214T164900
END:VEVENT
END:VCALENDAR