BEGIN:VCALENDAR
VERSION:2.0
PRODID:spatie/icalendar-generator
NAME:Agorakit : Burraskando MILANO
X-WR-CALNAME:Agorakit : Burraskando MILANO
DESCRIPTION:BENVENUTI IN QUESTA NUOVA ESPERIENZA!è nuova anche per noi\,m
 a il nostro impegno èquello di facilitare al meglioil nuovo modo di trova
 re lavoro e di fare mercato!!crea un profiloentra nel grupporispondi alle
  discussions......o creane una nuovacrea la tua realtà!scopri come funzio
 na prima di iniziare a scrivere!   #gratuito   #anonimo   #italiano
    #libero
X-WR-CALDESC:BENVENUTI IN QUESTA NUOVA ESPERIENZA!è nuova anche per noi\,
 ma il nostro impegno èquello di facilitare al meglioil nuovo modo di trov
 are lavoro e di fare mercato!!crea un profiloentra nel grupporispondi all
 e discussions......o creane una nuovacrea la tua realtà!scopri come funzi
 ona prima di iniziare a scrivere!   #gratuito   #anonimo   #italiano
    #libero
BEGIN:VTIMEZONE
TZID:Europe/Brussels
BEGIN:DAYLIGHT
DTSTART:20210328T010000
TZOFFSETFROM:+0100
TZOFFSETTO:+0200
END:DAYLIGHT
BEGIN:STANDARD
DTSTART:20211031T030000
TZOFFSETFROM:+0200
TZOFFSETTO:+0100
END:STANDARD
BEGIN:DAYLIGHT
DTSTART:20220327T010000
TZOFFSETFROM:+0100
TZOFFSETTO:+0200
END:DAYLIGHT
END:VTIMEZONE
BEGIN:VTIMEZONE
TZID:UTC
BEGIN:STANDARD
DTSTART:20210219T192335
TZOFFSETFROM:+0000
TZOFFSETTO:+0000
END:STANDARD
END:VTIMEZONE
BEGIN:VEVENT
UID:Burraskando MILANO-10681
DTSTAMP:20211208T083431Z
SUMMARY:Giro in cascina Casati
DESCRIPTION:Ritrovo al palazzo del ghiaccio alle 14.30 oppure direttamente 
 lì alle 15
LOCATION:Via Monza\, 24 bussero
DTSTART;TZID=Europe/Brussels:20211212T143000
DTEND;TZID=Europe/Brussels:20211212T170000
END:VEVENT
BEGIN:VEVENT
UID:Burraskando MILANO-10396
DTSTAMP:20211116T192335Z
SUMMARY:APERITIVO al Bar Rela
DESCRIPTION:
LOCATION:Via Nizza\, 95F\, 10126 Torino T
DTSTART;TZID=Europe/Brussels:20211202T180000
DTEND;TZID=Europe/Brussels:20211209T190000
END:VEVENT
BEGIN:VEVENT
UID:Burraskando MILANO-10514
DTSTAMP:20211126T074551Z
SUMMARY:Per incontrarsi\, C.na Casati
DESCRIPTION:Ci vediamo questa domenica davanti al palaghiaccio di via piran
 esi\, direzione tangenziale\, per andare in cascina e passare del tempo in
 sieme ❤️❤️❤️❤️. La cascina e’ indicata sulla mappa\, per
  coloro...
LOCATION:Via Monza 24\, Bussero\, MI
DTSTART;TZID=Europe/Brussels:20211128T143000
DTEND;TZID=Europe/Brussels:20211128T170000
END:VEVENT
END:VCALENDAR