BEGIN:VCALENDAR
VERSION:2.0
PRODID:spatie/icalendar-generator
NAME:Agorakit : ESG - 9th EUYD \" together for a sustainable and green euro
 pe\" 
X-WR-CALNAME:Agorakit : ESG - 9th EUYD \" together for a sustainable and gr
 een europe\" 
DESCRIPTION:A group to share documents\, feedbacks and work collectively on
  the cycle. 
X-WR-CALDESC:A group to share documents\, feedbacks and work collectively o
 n the cycle. 
BEGIN:VTIMEZONE
TZID:Europe/Brussels
BEGIN:DAYLIGHT
DTSTART:20210328T010000
TZOFFSETFROM:+0100
TZOFFSETTO:+0200
END:DAYLIGHT
BEGIN:STANDARD
DTSTART:20211031T030000
TZOFFSETFROM:+0200
TZOFFSETTO:+0100
END:STANDARD
BEGIN:DAYLIGHT
DTSTART:20220327T010000
TZOFFSETFROM:+0100
TZOFFSETTO:+0200
END:DAYLIGHT
END:VTIMEZONE
BEGIN:VTIMEZONE
TZID:UTC
BEGIN:STANDARD
DTSTART:20210207T160009
TZOFFSETFROM:+0000
TZOFFSETTO:+0000
END:STANDARD
END:VTIMEZONE
BEGIN:VEVENT
UID:ESG - 9th EUYD \" together for a sustainable and green europe\" -10240
DTSTAMP:20211104T160106Z
SUMMARY:Concept note to be sent to NYC in order to answer EC call
DESCRIPTION:
LOCATION:
DTSTART;TZID=Europe/Brussels:20211114T000000
DTEND;TZID=Europe/Brussels:20211114T235900
END:VEVENT
BEGIN:VEVENT
UID:ESG - 9th EUYD \" together for a sustainable and green europe\" -10238
DTSTAMP:20211104T160009Z
SUMMARY:End of silent procedure for Concept note
DESCRIPTION:
LOCATION:
DTSTART;TZID=Europe/Brussels:20211112T000000
DTEND;TZID=Europe/Brussels:20211112T235900
END:VEVENT
BEGIN:VEVENT
UID:ESG - 9th EUYD \" together for a sustainable and green europe\" -10239
DTSTAMP:20211104T160028Z
SUMMARY:call for facilitators and researchers to be send for French preside
 ncy
DESCRIPTION:
LOCATION:
DTSTART;TZID=Europe/Brussels:20211105T000000
DTEND;TZID=Europe/Brussels:20211105T235900
END:VEVENT
END:VCALENDAR