BEGIN:VCALENDAR
VERSION:2.0
PRODID:spatie/icalendar-generator
NAME:Agorakit : Panneaux informations des Communes - Ronchamp Tourisme
X-WR-CALNAME:Agorakit : Panneaux informations des Communes - Ronchamp Touri
 sme
DESCRIPTION:Dans ce groupe\, tous les échanges et vos questions concernant
  l'affichage sur les panneaux d'informations situés sur les communes de R
 onchamp\, Champagney et Frahier et Chatebier.La vocation première: diffus
 ion d'information à vocation touristique pour dynamiser et informer les p
 ublics locaux\, et de passage\, sur les évènements du territoire.Et éga
 lement : donner aux habitants des communes des informations ponctuelles su
 r la vie de leur commune.
X-WR-CALDESC:Dans ce groupe\, tous les échanges et vos questions concernan
 t l'affichage sur les panneaux d'informations situés sur les communes de 
 Ronchamp\, Champagney et Frahier et Chatebier.La vocation première: diffu
 sion d'information à vocation touristique pour dynamiser et informer les 
 publics locaux\, et de passage\, sur les évènements du territoire.Et ég
 alement : donner aux habitants des communes des informations ponctuelles s
 ur la vie de leur commune.
BEGIN:VTIMEZONE
TZID:Europe/Brussels
BEGIN:DAYLIGHT
DTSTART:20210328T010000
TZOFFSETFROM:+0100
TZOFFSETTO:+0200
END:DAYLIGHT
BEGIN:STANDARD
DTSTART:20211031T030000
TZOFFSETFROM:+0200
TZOFFSETTO:+0100
END:STANDARD
BEGIN:DAYLIGHT
DTSTART:20220327T010000
TZOFFSETFROM:+0100
TZOFFSETTO:+0200
END:DAYLIGHT
END:VTIMEZONE
BEGIN:VTIMEZONE
TZID:UTC
BEGIN:STANDARD
DTSTART:20201227T142101
TZOFFSETFROM:+0000
TZOFFSETTO:+0000
END:STANDARD
END:VTIMEZONE
BEGIN:VEVENT
UID:Panneaux informations des Communes - Ronchamp Tourisme-10991
DTSTAMP:20220107T130617Z
SUMMARY:incident de date
DESCRIPTION:
LOCATION:
DTSTART;TZID=Europe/Brussels:20220107T000000
DTEND;TZID=Europe/Brussels:20220107T235900
END:VEVENT
BEGIN:VEVENT
UID:Panneaux informations des Communes - Ronchamp Tourisme-9656
DTSTAMP:20210923T142101Z
SUMMARY:Formation Panneaux des communes
DESCRIPTION:Initiation pratique\, en visioconférence\, sur l'outil Charvet
  Media Creator
LOCATION:Ronchamp
DTSTART;TZID=Europe/Brussels:20210923T143000
DTEND;TZID=Europe/Brussels:20210923T152000
END:VEVENT
END:VCALENDAR