BEGIN:VCALENDAR
VERSION:2.0
PRODID:spatie/icalendar-generator
NAME:Agorakit : ggroup
X-WR-CALNAME:Agorakit : ggroup
DESCRIPTION:ggroup description
X-WR-CALDESC:ggroup description
BEGIN:VTIMEZONE
TZID:Europe/Brussels
BEGIN:DAYLIGHT
DTSTART:20210328T010000
TZOFFSETFROM:+0100
TZOFFSETTO:+0200
END:DAYLIGHT
BEGIN:STANDARD
DTSTART:20211031T030000
TZOFFSETFROM:+0200
TZOFFSETTO:+0100
END:STANDARD
END:VTIMEZONE
BEGIN:VTIMEZONE
TZID:UTC
BEGIN:STANDARD
DTSTART:20201129T205443
TZOFFSETFROM:+0000
TZOFFSETTO:+0000
END:STANDARD
END:VTIMEZONE
BEGIN:VEVENT
UID:ggroup-9181
DTSTAMP:20210826T205443Z
SUMMARY:first event
DESCRIPTION:description first event
LOCATION:castelmella (BS) italia
DTSTART;TZID=Europe/Brussels:20210826T225200
DTEND;TZID=Europe/Brussels:20210826T235200
END:VEVENT
END:VCALENDAR