BEGIN:VCALENDAR
VERSION:2.0
PRODID:spatie/icalendar-generator
NAME:Agorakit : Melbourne Coffee Catchup
X-WR-CALNAME:Agorakit : Melbourne Coffee Catchup
DESCRIPTION:Meet some local people and enjoy a cuppa.Hope to see you there
X-WR-CALDESC:Meet some local people and enjoy a cuppa.Hope to see you there
BEGIN:VTIMEZONE
TZID:Europe/Brussels
BEGIN:DAYLIGHT
DTSTART:20210328T010000
TZOFFSETFROM:+0100
TZOFFSETTO:+0200
END:DAYLIGHT
BEGIN:STANDARD
DTSTART:20211031T030000
TZOFFSETFROM:+0200
TZOFFSETTO:+0100
END:STANDARD
END:VTIMEZONE
BEGIN:VTIMEZONE
TZID:UTC
BEGIN:STANDARD
DTSTART:20201111T101508
TZOFFSETFROM:+0000
TZOFFSETTO:+0000
END:STANDARD
END:VTIMEZONE
BEGIN:VEVENT
UID:Melbourne Coffee Catchup-9102
DTSTAMP:20210808T101508Z
SUMMARY:Lockdown Cuppa
DESCRIPTION:Just Kidding. This is a test event. Stay Safe. Stay Home
LOCATION:Miss Colombia Cafe\, 36 Mills S
DTSTART;TZID=Europe/Brussels:20210811T070000
DTEND;TZID=Europe/Brussels:20210811T080000
END:VEVENT
END:VCALENDAR