BEGIN:VCALENDAR
VERSION:2.0
PRODID:spatie/icalendar-generator
NAME:Agorakit : Contre la réforme de l'assurance-chômage
X-WR-CALNAME:Agorakit : Contre la réforme de l'assurance-chômage
DESCRIPTION:Contre la réforme de l'assurance-chômage
X-WR-CALDESC:Contre la réforme de l'assurance-chômage
BEGIN:VTIMEZONE
TZID:Europe/Brussels
BEGIN:STANDARD
DTSTART:20201025T030000
TZOFFSETFROM:+0200
TZOFFSETTO:+0100
END:STANDARD
BEGIN:DAYLIGHT
DTSTART:20210328T010000
TZOFFSETFROM:+0100
TZOFFSETTO:+0200
END:DAYLIGHT
BEGIN:STANDARD
DTSTART:20211031T030000
TZOFFSETFROM:+0200
TZOFFSETTO:+0100
END:STANDARD
END:VTIMEZONE
BEGIN:VTIMEZONE
TZID:UTC
BEGIN:STANDARD
DTSTART:20200919T122731
TZOFFSETFROM:+0000
TZOFFSETTO:+0000
END:STANDARD
END:VTIMEZONE
BEGIN:VEVENT
UID:Contre la réforme de l'assurance-chômage-8571
DTSTAMP:20210616T123650Z
SUMMARY:Mine témoin: Périple de 20:00 à 21:00
DESCRIPTION:
LOCATION:Mine témoin
DTSTART;TZID=Europe/Brussels:20210620T200000
DTEND;TZID=Europe/Brussels:20210620T210000
END:VEVENT
BEGIN:VEVENT
UID:Contre la réforme de l'assurance-chômage-8570
DTSTAMP:20210616T123623Z
SUMMARY:Parc du musée: No limits de 18:00 à 19:00
DESCRIPTION:
LOCATION:Parc du musée
DTSTART;TZID=Europe/Brussels:20210620T180000
DTEND;TZID=Europe/Brussels:20210620T190000
END:VEVENT
BEGIN:VEVENT
UID:Contre la réforme de l'assurance-chômage-8569
DTSTAMP:20210616T123555Z
SUMMARY:City stade Rochebelle: Terrain d'aventure de 16:00 à 19:00
DESCRIPTION:
LOCATION:City stade Rochebelle
DTSTART;TZID=Europe/Brussels:20210620T160000
DTEND;TZID=Europe/Brussels:20210620T190000
END:VEVENT
BEGIN:VEVENT
UID:Contre la réforme de l'assurance-chômage-8568
DTSTAMP:20210616T123523Z
SUMMARY:Parc du musée: Diptyk\, ... de 15:00 à 18:00
DESCRIPTION:
LOCATION:Parc du musée
DTSTART;TZID=Europe/Brussels:20210620T150000
DTEND;TZID=Europe/Brussels:20210620T180000
END:VEVENT
BEGIN:VEVENT
UID:Contre la réforme de l'assurance-chômage-8567
DTSTAMP:20210616T123452Z
SUMMARY:Verrerie: Labo du Salto de 09:00 à 10:00
DESCRIPTION:
LOCATION:Verrerie
DTSTART;TZID=Europe/Brussels:20210620T090000
DTEND;TZID=Europe/Brussels:20210620T100000
END:VEVENT
BEGIN:VEVENT
UID:Contre la réforme de l'assurance-chômage-8566
DTSTAMP:20210616T123419Z
SUMMARY:Verrerie: Bal Horizon de 21:30 à 22:30
DESCRIPTION:
LOCATION:Verrerie
DTSTART;TZID=Europe/Brussels:20210619T213000
DTEND;TZID=Europe/Brussels:20210619T223000
END:VEVENT
BEGIN:VEVENT
UID:Contre la réforme de l'assurance-chômage-8565
DTSTAMP:20210616T123350Z
SUMMARY:Place Lénine: Bel Horizon de 18:00 à 19:30
DESCRIPTION:
LOCATION:Place Lénine
DTSTART;TZID=Europe/Brussels:20210619T180000
DTEND;TZID=Europe/Brussels:20210619T193000
END:VEVENT
BEGIN:VEVENT
UID:Contre la réforme de l'assurance-chômage-8564
DTSTAMP:20210616T123322Z
SUMMARY:Rue des Érables: PULSE de 17:00 à 17:40
DESCRIPTION:
LOCATION:Rue des Érables
DTSTART;TZID=Europe/Brussels:20210619T170000
DTEND;TZID=Europe/Brussels:20210619T174000
END:VEVENT
BEGIN:VEVENT
UID:Contre la réforme de l'assurance-chômage-8563
DTSTAMP:20210616T123254Z
SUMMARY:Parc du musée: Je Te Tiens de 15:30 à 16:30
DESCRIPTION:
LOCATION:Parc du musée
DTSTART;TZID=Europe/Brussels:20210619T153000
DTEND;TZID=Europe/Brussels:20210619T163000
END:VEVENT
BEGIN:VEVENT
UID:Contre la réforme de l'assurance-chômage-8561
DTSTAMP:20210616T123204Z
SUMMARY:Verrerie: PROViSOIRE de 21:00 à 22:00
DESCRIPTION:
LOCATION:Verrerie
DTSTART;TZID=Europe/Brussels:20210618T210000
DTEND;TZID=Europe/Brussels:20210618T220000
END:VEVENT
BEGIN:VEVENT
UID:Contre la réforme de l'assurance-chômage-8560
DTSTAMP:20210616T123044Z
SUMMARY:Verrerie: BOULET de 19:00 à 20:00 
DESCRIPTION:
LOCATION:Verrerie
DTSTART;TZID=Europe/Brussels:20210618T190000
DTEND;TZID=Europe/Brussels:20210618T200000
END:VEVENT
BEGIN:VEVENT
UID:Contre la réforme de l'assurance-chômage-8559
DTSTAMP:20210616T122959Z
SUMMARY:Verrerie: Liesse(s)  de 21:30 à 22:45
DESCRIPTION:
LOCATION:Verrerie
DTSTART;TZID=Europe/Brussels:20210617T213000
DTEND;TZID=Europe/Brussels:20210617T224500
END:VEVENT
BEGIN:VEVENT
UID:Contre la réforme de l'assurance-chômage-8558
DTSTAMP:20210616T122923Z
SUMMARY:Verrerie: Impact d'une course de 19:00 à 20:00
DESCRIPTION:
LOCATION:Verrerie
DTSTART;TZID=Europe/Brussels:20210617T190000
DTEND;TZID=Europe/Brussels:20210617T200000
END:VEVENT
BEGIN:VEVENT
UID:Contre la réforme de l'assurance-chômage-8557
DTSTAMP:20210616T122836Z
SUMMARY:Cantine Solidaire: Atelier de réalisation de jardinières de 14:30
  à 17:00
DESCRIPTION:
LOCATION:Cantine Solidaire
DTSTART;TZID=Europe/Brussels:20210617T143000
DTEND;TZID=Europe/Brussels:20210617T170000
END:VEVENT
BEGIN:VEVENT
UID:Contre la réforme de l'assurance-chômage-8556
DTSTAMP:20210616T122731Z
SUMMARY:Cantine Solidaire: Du soleil dans nos assiettes de 10:30 à 11:30
DESCRIPTION:
LOCATION:Cantine Solidaire
DTSTART;TZID=Europe/Brussels:20210617T103000
DTEND;TZID=Europe/Brussels:20210617T113000
END:VEVENT
END:VCALENDAR