BEGIN:VCALENDAR
VERSION:2.0
PRODID:spatie/icalendar-generator
NAME:Agorakit : Casa tía Julia - Refugio de ideas
X-WR-CALNAME:Agorakit : Casa tía Julia - Refugio de ideas
DESCRIPTION:Casa-coworking. Espacio de trabajo\, tecnología y cultura desd
 e Ciria (Soria) un pueblo de 40 habitantes. Grupo general para organizar l
 os talleres y eventos. 
X-WR-CALDESC:Casa-coworking. Espacio de trabajo\, tecnología y cultura des
 de Ciria (Soria) un pueblo de 40 habitantes. Grupo general para organizar 
 los talleres y eventos. 
BEGIN:VTIMEZONE
TZID:Europe/Brussels
BEGIN:STANDARD
DTSTART:20201025T030000
TZOFFSETFROM:+0200
TZOFFSETTO:+0100
END:STANDARD
BEGIN:DAYLIGHT
DTSTART:20210328T010000
TZOFFSETFROM:+0100
TZOFFSETTO:+0200
END:DAYLIGHT
BEGIN:STANDARD
DTSTART:20211031T030000
TZOFFSETFROM:+0200
TZOFFSETTO:+0100
END:STANDARD
END:VTIMEZONE
BEGIN:VTIMEZONE
TZID:UTC
BEGIN:STANDARD
DTSTART:20200918T222941
TZOFFSETFROM:+0000
TZOFFSETTO:+0000
END:STANDARD
END:VTIMEZONE
BEGIN:VEVENT
UID:Casa tía Julia - Refugio de ideas-8544
DTSTAMP:20210615T222941Z
SUMMARY:Taller de Astronomía en Reznos
DESCRIPTION:La noche del sábado 10 de julio todos los vecinos del pequeño
  pueblo de Reznos en Soria (donde nació la abuela de @editora) se ponen d
 e acuerdo y apagan todas las luces\, también las de las calles\, ...
LOCATION:Reznos (Soria). Spain
DTSTART;TZID=Europe/Brussels:20210710T233000
DTEND;TZID=Europe/Brussels:20210711T003000
END:VEVENT
END:VCALENDAR