BEGIN:VCALENDAR
VERSION:2.0
PRODID:spatie/icalendar-generator
NAME:Agorakit : Epilexique
X-WR-CALNAME:Agorakit : Epilexique
DESCRIPTION:Tournée de Epilexique en Bretagne 
X-WR-CALDESC:Tournée de Epilexique en Bretagne 
BEGIN:VTIMEZONE
TZID:Europe/Brussels
BEGIN:STANDARD
DTSTART:20201025T030000
TZOFFSETFROM:+0200
TZOFFSETTO:+0100
END:STANDARD
BEGIN:DAYLIGHT
DTSTART:20210328T010000
TZOFFSETFROM:+0100
TZOFFSETTO:+0200
END:DAYLIGHT
BEGIN:STANDARD
DTSTART:20211031T030000
TZOFFSETFROM:+0200
TZOFFSETTO:+0100
END:STANDARD
END:VTIMEZONE
BEGIN:VTIMEZONE
TZID:UTC
BEGIN:STANDARD
DTSTART:20200905T135143
TZOFFSETFROM:+0000
TZOFFSETTO:+0000
END:STANDARD
END:VTIMEZONE
BEGIN:VEVENT
UID:Epilexique-8384
DTSTAMP:20210602T172301Z
SUMMARY:concert au Tremargad'Kafe
DESCRIPTION:
LOCATION: 22110 Tremargat
DTSTART;TZID=Europe/Brussels:20210731T200000
DTEND;TZID=Europe/Brussels:20210731T235900
END:VEVENT
BEGIN:VEVENT
UID:Epilexique-8376
DTSTAMP:20210602T135143Z
SUMMARY:Concert au tempo
DESCRIPTION:
LOCATION:Guémené-Penfao France
DTSTART;TZID=Europe/Brussels:20210728T000000
DTEND;TZID=Europe/Brussels:20210728T235900
END:VEVENT
BEGIN:VEVENT
UID:Epilexique-8383
DTSTAMP:20210602T172151Z
SUMMARY:concert de soutient a Jean
DESCRIPTION:
LOCATION:Lorient
DTSTART;TZID=Europe/Brussels:20210710T000000
DTEND;TZID=Europe/Brussels:20210710T235900
END:VEVENT
BEGIN:VEVENT
UID:Epilexique-8381
DTSTAMP:20210602T172031Z
SUMMARY:Concert au Capuche Berret
DESCRIPTION:
LOCATION:mas d'azile
DTSTART;TZID=Europe/Brussels:20210621T203000
DTEND;TZID=Europe/Brussels:20210621T235900
END:VEVENT
BEGIN:VEVENT
UID:Epilexique-8382
DTSTAMP:20210602T172117Z
SUMMARY:concert au festivalette
DESCRIPTION:
LOCATION:la vieille valette
DTSTART;TZID=Europe/Brussels:20210611T000000
DTEND;TZID=Europe/Brussels:20210611T235900
END:VEVENT
END:VCALENDAR