BEGIN:VCALENDAR
VERSION:2.0
PRODID:spatie/icalendar-generator
NAME:Agorakit : Agorakit : Users & developers
X-WR-CALNAME:Agorakit : Agorakit : Users & developers
DESCRIPTION:Here we discuss the future of Agorakit.This group is curently e
 mpty because in the past all french and english speaking people were in th
 e same groupe. Since most people don't speak both langage\, I created a se
 cond\, english speaking only\, group.Groupe francophone ici : https://app.
 agorakit.org/groups/39
X-WR-CALDESC:Here we discuss the future of Agorakit.This group is curently 
 empty because in the past all french and english speaking people were in t
 he same groupe. Since most people don't speak both langage\, I created a s
 econd\, english speaking only\, group.Groupe francophone ici : https://app
 .agorakit.org/groups/39
BEGIN:VTIMEZONE
TZID:Europe/Brussels
BEGIN:DAYLIGHT
DTSTART:20240331T010000
TZOFFSETFROM:+0100
TZOFFSETTO:+0200
END:DAYLIGHT
BEGIN:STANDARD
DTSTART:20241027T030000
TZOFFSETFROM:+0200
TZOFFSETTO:+0100
END:STANDARD
BEGIN:DAYLIGHT
DTSTART:20250330T010000
TZOFFSETFROM:+0100
TZOFFSETTO:+0200
END:DAYLIGHT
END:VTIMEZONE
BEGIN:VTIMEZONE
TZID:UTC
BEGIN:STANDARD
DTSTART:20240305T181624
TZOFFSETFROM:+0000
TZOFFSETTO:+0000
END:STANDARD
END:VTIMEZONE
BEGIN:VEVENT
UID:Agorakit : Users & developers-25718
DTSTAMP:20241130T181624Z
SUMMARY:Test event FS
DESCRIPTION:Test event FS desc
LOCATION:
DTSTART;TZID=Europe/Brussels:20241130T200000
DTEND;TZID=Europe/Brussels:20241130T211600
END:VEVENT
END:VCALENDAR