BEGIN:VCALENDAR
VERSION:2.0
PRODID:spatie/icalendar-generator
NAME:Agorakit : skriaz
X-WR-CALNAME:Agorakit : skriaz
DESCRIPTION:jgghjkg
X-WR-CALDESC:jgghjkg
BEGIN:VTIMEZONE
TZID:Europe/Brussels
BEGIN:STANDARD
DTSTART:20201025T030000
TZOFFSETFROM:+0200
TZOFFSETTO:+0100
END:STANDARD
BEGIN:DAYLIGHT
DTSTART:20210328T010000
TZOFFSETFROM:+0100
TZOFFSETTO:+0200
END:DAYLIGHT
END:VTIMEZONE
BEGIN:VTIMEZONE
TZID:UTC
BEGIN:STANDARD
DTSTART:20200627T063030
TZOFFSETFROM:+0000
TZOFFSETTO:+0000
END:STANDARD
END:VTIMEZONE
BEGIN:VEVENT
UID:skriaz-7517
DTSTAMP:20210324T063030Z
SUMMARY:skriaz
DESCRIPTION:ggfj
LOCATION:Dhaka
DTSTART;TZID=Europe/Brussels:20210324T073000
DTEND;TZID=Europe/Brussels:20210324T083000
END:VEVENT
END:VCALENDAR