BEGIN:VCALENDAR
VERSION:2.0
PRODID:spatie/icalendar-generator
NAME:Agorakit : Usagers Ligne Crest-Valence
X-WR-CALNAME:Agorakit : Usagers Ligne Crest-Valence
DESCRIPTION:Lieu d'échange et de partage pour les usagers de la ligne Cres
 t-Valence
X-WR-CALDESC:Lieu d'échange et de partage pour les usagers de la ligne Cre
 st-Valence
BEGIN:VTIMEZONE
TZID:Europe/Brussels
BEGIN:DAYLIGHT
DTSTART:20210328T010000
TZOFFSETFROM:+0100
TZOFFSETTO:+0200
END:DAYLIGHT
BEGIN:STANDARD
DTSTART:20211031T030000
TZOFFSETFROM:+0200
TZOFFSETTO:+0100
END:STANDARD
BEGIN:DAYLIGHT
DTSTART:20220327T010000
TZOFFSETFROM:+0100
TZOFFSETTO:+0200
END:DAYLIGHT
END:VTIMEZONE
BEGIN:VTIMEZONE
TZID:UTC
BEGIN:STANDARD
DTSTART:20210215T112723
TZOFFSETFROM:+0000
TZOFFSETTO:+0000
END:STANDARD
END:VTIMEZONE
BEGIN:VEVENT
UID:Usagers Ligne Crest-Valence-10342
DTSTAMP:20211112T112723Z
SUMMARY:coordination des colllectif et réactivation du service ferroviaire
  sur notre ligne
DESCRIPTION:ODJ proposé :\n      Tour de table et présentation synthéti
 que de l'état\n          des travaux déjà menés par les différents c
 ollectifs autour de\n          la ligne.\n        Identification des c..
 .
LOCATION:Réunion ZOOM
DTSTART;TZID=Europe/Brussels:20211123T183000
DTEND;TZID=Europe/Brussels:20211123T203000
END:VEVENT
END:VCALENDAR