BEGIN:VCALENDAR
VERSION:2.0
PRODID:spatie/icalendar-generator
NAME:Agorakit : transitions nogentaises
X-WR-CALNAME:Agorakit : transitions nogentaises
DESCRIPTION:Issue du pacte pour la transition nogent sur Marne 94130
X-WR-CALDESC:Issue du pacte pour la transition nogent sur Marne 94130
BEGIN:VTIMEZONE
TZID:Europe/Brussels
BEGIN:STANDARD
DTSTART:20201025T030000
TZOFFSETFROM:+0200
TZOFFSETTO:+0100
END:STANDARD
BEGIN:DAYLIGHT
DTSTART:20210328T010000
TZOFFSETFROM:+0100
TZOFFSETTO:+0200
END:DAYLIGHT
END:VTIMEZONE
BEGIN:VTIMEZONE
TZID:UTC
BEGIN:STANDARD
DTSTART:20200506T182614
TZOFFSETFROM:+0000
TZOFFSETTO:+0000
END:STANDARD
END:VTIMEZONE
BEGIN:VEVENT
UID:transitions nogentaises-7245
DTSTAMP:20210226T172048Z
SUMMARY:réunion mensuelle TN
DESCRIPTION:
LOCATION:
DTSTART;TZID=Europe/Brussels:20210305T203000
DTEND;TZID=Europe/Brussels:20210306T223000
END:VEVENT
BEGIN:VEVENT
UID:transitions nogentaises-7106
DTSTAMP:20210207T181538Z
SUMMARY:Codev
DESCRIPTION:
LOCATION:
DTSTART;TZID=Europe/Brussels:20210217T173000
DTEND;TZID=Europe/Brussels:20210217T190000
END:VEVENT
BEGIN:VEVENT
UID:transitions nogentaises-7105
DTSTAMP:20210207T181434Z
SUMMARY:Codev
DESCRIPTION:
LOCATION:
DTSTART;TZID=Europe/Brussels:20210216T173000
DTEND;TZID=Europe/Brussels:20210216T190000
END:VEVENT
BEGIN:VEVENT
UID:transitions nogentaises-7048
DTSTAMP:20210131T182832Z
SUMMARY:Réunion mensuelle TN
DESCRIPTION:
LOCATION:
DTSTART;TZID=Europe/Brussels:20210205T203000
DTEND;TZID=Europe/Brussels:20210205T220000
END:VEVENT
BEGIN:VEVENT
UID:transitions nogentaises-7046
DTSTAMP:20210131T182614Z
SUMMARY:Codev 94
DESCRIPTION:
LOCATION:
DTSTART;TZID=Europe/Brussels:20210204T173000
DTEND;TZID=Europe/Brussels:20210204T193000
END:VEVENT
BEGIN:VEVENT
UID:transitions nogentaises-7047
DTSTAMP:20210131T182720Z
SUMMARY:Codev94
DESCRIPTION:
LOCATION:
DTSTART;TZID=Europe/Brussels:20210126T173000
DTEND;TZID=Europe/Brussels:20210126T193000
END:VEVENT
END:VCALENDAR