BEGIN:VCALENDAR
VERSION:2.0
PRODID:spatie/icalendar-generator
NAME:Agorakit : CREER 
X-WR-CALNAME:Agorakit : CREER 
DESCRIPTION:Nous sommes un collectif d’enseignants d’une école de trav
 ail social située à Liège\, l’ESAS-HELMo. Depuis début novembre 2020
 \, nous nous réunissons tous les jeudis après-midis afin de nous dire su
 bjectivement et de réfléchir collectivement aux effets des mesures sanit
 aires sur nos vies d’humains et d’enseignants. Notre constat premier e
 st celui-ci : nous ne pouvons plus avancer\, sans les questionner\, dans d
 es situations d’enseignement révélant autant d’étudiants perdus\, e
 n errance et en souff...
X-WR-CALDESC:Nous sommes un collectif d’enseignants d’une école de tra
 vail social située à Liège\, l’ESAS-HELMo. Depuis début novembre 202
 0\, nous nous réunissons tous les jeudis après-midis afin de nous dire s
 ubjectivement et de réfléchir collectivement aux effets des mesures sani
 taires sur nos vies d’humains et d’enseignants. Notre constat premier 
 est celui-ci : nous ne pouvons plus avancer\, sans les questionner\, dans 
 des situations d’enseignement révélant autant d’étudiants perdus\, 
 en errance et en souff...
BEGIN:VTIMEZONE
TZID:Europe/Brussels
BEGIN:STANDARD
DTSTART:20201025T030000
TZOFFSETFROM:+0200
TZOFFSETTO:+0100
END:STANDARD
BEGIN:DAYLIGHT
DTSTART:20210328T010000
TZOFFSETFROM:+0100
TZOFFSETTO:+0200
END:DAYLIGHT
BEGIN:STANDARD
DTSTART:20211031T030000
TZOFFSETFROM:+0200
TZOFFSETTO:+0100
END:STANDARD
BEGIN:DAYLIGHT
DTSTART:20220327T010000
TZOFFSETFROM:+0100
TZOFFSETTO:+0200
END:DAYLIGHT
END:VTIMEZONE
BEGIN:VTIMEZONE
TZID:UTC
BEGIN:STANDARD
DTSTART:20200324T110607
TZOFFSETFROM:+0000
TZOFFSETTO:+0000
END:STANDARD
END:VTIMEZONE
BEGIN:VEVENT
UID:CREER -10726
DTSTAMP:20211212T170047Z
SUMMARY:bureau permanent
DESCRIPTION:veille 
LOCATION:
DTSTART;TZID=Europe/Brussels:20211213T120000
DTEND;TZID=Europe/Brussels:20211213T125900
END:VEVENT
BEGIN:VEVENT
UID:CREER -10380
DTSTAMP:20211115T084203Z
SUMMARY:Réunion du collectif - Afterwork
DESCRIPTION:
LOCATION:HELMo-ESAS
DTSTART;TZID=Europe/Brussels:20211117T160000
DTEND;TZID=Europe/Brussels:20211117T180000
END:VEVENT
BEGIN:VEVENT
UID:CREER -8070
DTSTAMP:20210510T201418Z
SUMMARY:Réunion Vernipassage
DESCRIPTION:
LOCATION:
DTSTART;TZID=Europe/Brussels:20210518T113000
DTEND;TZID=Europe/Brussels:20210518T133000
END:VEVENT
BEGIN:VEVENT
UID:CREER -8069
DTSTAMP:20210510T201323Z
SUMMARY:Réunion 17 mai
DESCRIPTION:
LOCATION:
DTSTART;TZID=Europe/Brussels:20210517T120000
DTEND;TZID=Europe/Brussels:20210517T140000
END:VEVENT
BEGIN:VEVENT
UID:CREER -6918
DTSTAMP:20210110T123656Z
SUMMARY:CREER (2021)
DESCRIPTION:
LOCATION:
DTSTART;TZID=Europe/Brussels:20210223T130000
DTEND;TZID=Europe/Brussels:20210223T153000
END:VEVENT
BEGIN:VEVENT
UID:CREER -6917
DTSTAMP:20210110T123617Z
SUMMARY:CREE (2021)
DESCRIPTION:
LOCATION:
DTSTART;TZID=Europe/Brussels:20210217T130000
DTEND;TZID=Europe/Brussels:20210217T153000
END:VEVENT
BEGIN:VEVENT
UID:CREER -6916
DTSTAMP:20210110T123531Z
SUMMARY:CREER (2021)
DESCRIPTION:
LOCATION:
DTSTART;TZID=Europe/Brussels:20210211T130000
DTEND;TZID=Europe/Brussels:20210211T153000
END:VEVENT
BEGIN:VEVENT
UID:CREER -6915
DTSTAMP:20210110T123429Z
SUMMARY:CREER (2021)
DESCRIPTION:
LOCATION:
DTSTART;TZID=Europe/Brussels:20210203T130000
DTEND;TZID=Europe/Brussels:20210203T153000
END:VEVENT
BEGIN:VEVENT
UID:CREER -6914
DTSTAMP:20210110T123329Z
SUMMARY:CREER (2021)
DESCRIPTION:
LOCATION:
DTSTART;TZID=Europe/Brussels:20210126T130000
DTEND;TZID=Europe/Brussels:20210126T153000
END:VEVENT
BEGIN:VEVENT
UID:CREER -6913
DTSTAMP:20210110T123231Z
SUMMARY:CREER (2021)
DESCRIPTION:
LOCATION:
DTSTART;TZID=Europe/Brussels:20210121T130000
DTEND;TZID=Europe/Brussels:20210121T153000
END:VEVENT
BEGIN:VEVENT
UID:CREER -6912
DTSTAMP:20210110T123039Z
SUMMARY:CREER (2021)
DESCRIPTION:
LOCATION:
DTSTART;TZID=Europe/Brussels:20210115T130000
DTEND;TZID=Europe/Brussels:20210115T153000
END:VEVENT
BEGIN:VEVENT
UID:CREER -6801
DTSTAMP:20201219T110607Z
SUMMARY:CREER (2021)
DESCRIPTION:prochaine réunion
LOCATION:
DTSTART;TZID=Europe/Brussels:20210107T133000
DTEND;TZID=Europe/Brussels:20210107T160000
END:VEVENT
END:VCALENDAR