BEGIN:VCALENDAR
VERSION:2.0
PRODID:spatie/icalendar-generator
NAME:Agorakit : la ruche a mille temps
X-WR-CALNAME:Agorakit : la ruche a mille temps
DESCRIPTION:la vie du rucher 
X-WR-CALDESC:la vie du rucher 
BEGIN:VTIMEZONE
TZID:Europe/Brussels
BEGIN:DAYLIGHT
DTSTART:20200329T010000
TZOFFSETFROM:+0100
TZOFFSETTO:+0200
END:DAYLIGHT
BEGIN:STANDARD
DTSTART:20201025T030000
TZOFFSETFROM:+0200
TZOFFSETTO:+0100
END:STANDARD
BEGIN:DAYLIGHT
DTSTART:20210328T010000
TZOFFSETFROM:+0100
TZOFFSETTO:+0200
END:DAYLIGHT
END:VTIMEZONE
BEGIN:VTIMEZONE
TZID:UTC
BEGIN:STANDARD
DTSTART:20200122T093516
TZOFFSETFROM:+0000
TZOFFSETTO:+0000
END:STANDARD
END:VTIMEZONE
BEGIN:VEVENT
UID:la ruche a mille temps-6471
DTSTAMP:20201019T101413Z
SUMMARY:Réunion ancien
DESCRIPTION:réunion des anciens via zoom
LOCATION:
DTSTART;TZID=Europe/Brussels:20201120T190000
DTEND;TZID=Europe/Brussels:20201120T210000
END:VEVENT
BEGIN:VEVENT
UID:la ruche a mille temps-6479
DTSTAMP:20201020T090858Z
SUMMARY:visite rucher
DESCRIPTION:
LOCATION:
DTSTART;TZID=Europe/Brussels:20201025T100000
DTEND;TZID=Europe/Brussels:20201025T120000
END:VEVENT
BEGIN:VEVENT
UID:la ruche a mille temps-6467
DTSTAMP:20201018T093516Z
SUMMARY:Comment se faire envoyer un mail ?
DESCRIPTION:Il faut demander la participation pour cela.
LOCATION:
DTSTART;TZID=Europe/Brussels:20201018T130000
DTEND;TZID=Europe/Brussels:20201018T140000
END:VEVENT
END:VCALENDAR