BEGIN:VCALENDAR
VERSION:2.0
PRODID:spatie/icalendar-generator
NAME:Agorakit : ALYCLAYAG 1990-2000
X-WR-CALNAME:Agorakit : ALYCLAYAG 1990-2000
DESCRIPTION:Cette Association a pour objectif :✓ Préserver et renforcer 
 le lien entre les anciens élèves du Lycée Classique de Yagoua promotion
  (1990- 2000)✓ Participer à la lutte contre la sous-scolarisation des j
 eunes dans le département du Mayo-Danay✓ Apporter un soutien au Lycée 
 Classique de Yagoua.
X-WR-CALDESC:Cette Association a pour objectif :✓ Préserver et renforcer
  le lien entre les anciens élèves du Lycée Classique de Yagoua promotio
 n (1990- 2000)✓ Participer à la lutte contre la sous-scolarisation des 
 jeunes dans le département du Mayo-Danay✓ Apporter un soutien au Lycée
  Classique de Yagoua.
BEGIN:VTIMEZONE
TZID:Europe/Brussels
BEGIN:DAYLIGHT
DTSTART:20200329T010000
TZOFFSETFROM:+0100
TZOFFSETTO:+0200
END:DAYLIGHT
BEGIN:STANDARD
DTSTART:20201025T030000
TZOFFSETFROM:+0200
TZOFFSETTO:+0100
END:STANDARD
END:VTIMEZONE
BEGIN:VTIMEZONE
TZID:UTC
BEGIN:STANDARD
DTSTART:20191020T151802
TZOFFSETFROM:+0000
TZOFFSETTO:+0000
END:STANDARD
END:VTIMEZONE
BEGIN:VEVENT
UID:ALYCLAYAG 1990-2000-5801
DTSTAMP:20200716T151802Z
SUMMARY:ASSEMBLEE GENERALE POUR ELECTIONS DES BUREAUX REGIONAUX
DESCRIPTION:
LOCATION:ZOOM
DTSTART;TZID=Europe/Brussels:20200726T140000
DTEND;TZID=Europe/Brussels:20200727T170000
END:VEVENT
END:VCALENDAR