BEGIN:VCALENDAR
VERSION:2.0
PRODID:spatie/icalendar-generator
NAME:Agorakit : Plaine Commune vous invite aux ateliers d'été de la réno
 vation urbaine de Villetaneuse ! 
X-WR-CALNAME:Agorakit : Plaine Commune vous invite aux ateliers d'été de 
 la rénovation urbaine de Villetaneuse ! 
DESCRIPTION:Plaine Commune et la Ville de Villetaneuse vous invite à des a
 teliers pour cet été\, au programme : on créer des maquette avec des im
 primantes 3D\, on explore comme jamais la Butte Pinson\, on confectionne d
 es sirops et confitures mais on jardine aussi ! On découvre un ruisseau t
 out près d'ici\, on répare ensemble vos vélos ! Ce groupe recense les 
 activités estivales programmées par l'UTRU de Villetaneuse. Il permet en
  plus de visualiser l'ensemble des actions programmées et de s'y inscrire
  ! Com...
X-WR-CALDESC:Plaine Commune et la Ville de Villetaneuse vous invite à des 
 ateliers pour cet été\, au programme : on créer des maquette avec des i
 mprimantes 3D\, on explore comme jamais la Butte Pinson\, on confectionne 
 des sirops et confitures mais on jardine aussi ! On découvre un ruisseau 
 tout près d'ici\, on répare ensemble vos vélos ! Ce groupe recense les
  activités estivales programmées par l'UTRU de Villetaneuse. Il permet e
 n plus de visualiser l'ensemble des actions programmées et de s'y inscrir
 e ! Com...
BEGIN:VTIMEZONE
TZID:Europe/Brussels
BEGIN:STANDARD
DTSTART:20191027T030000
TZOFFSETFROM:+0200
TZOFFSETTO:+0100
END:STANDARD
BEGIN:DAYLIGHT
DTSTART:20200329T010000
TZOFFSETFROM:+0100
TZOFFSETTO:+0200
END:DAYLIGHT
BEGIN:STANDARD
DTSTART:20201025T030000
TZOFFSETFROM:+0200
TZOFFSETTO:+0100
END:STANDARD
END:VTIMEZONE
BEGIN:VTIMEZONE
TZID:UTC
BEGIN:STANDARD
DTSTART:20191006T085432
TZOFFSETFROM:+0000
TZOFFSETTO:+0000
END:STANDARD
END:VTIMEZONE
BEGIN:VEVENT
UID:Plaine Commune vous invite aux ateliers d'été de la rénovation urbai
 ne de Villetaneuse ! -5705
DTSTAMP:20200706T145730Z
SUMMARY:Fabrique ton quartier idéal - Ma maison en papier ! 
DESCRIPTION:1. Fabrique ton quartieri déal – partenariat avec le Fablab 
 Mobile I cietLab29.06.2020« Fabrication de maquettes permettant d’imagi
 ner le quartier idéal avec de jeunes habitants. L’action a pour ob...
LOCATION:Tremplin
DTSTART;TZID=Europe/Brussels:20200831T100000
DTEND;TZID=Europe/Brussels:20200831T170000
END:VEVENT
BEGIN:VEVENT
UID:Plaine Commune vous invite aux ateliers d'été de la rénovation urbai
 ne de Villetaneuse ! -5642
DTSTAMP:20200702T090307Z
SUMMARY:Reconnaissance et valorisation des plantes communes
DESCRIPTION:Confection de confitures de Prunes
LOCATION:Tremplin
DTSTART;TZID=Europe/Brussels:20200828T093000
DTEND;TZID=Europe/Brussels:20200828T130000
END:VEVENT
BEGIN:VEVENT
UID:Plaine Commune vous invite aux ateliers d'été de la rénovation urbai
 ne de Villetaneuse ! -5641
DTSTAMP:20200702T090230Z
SUMMARY:Reconnaissance et valorisation des plantes communes
DESCRIPTION:Cueillette de prunes
LOCATION:Butte Pinson
DTSTART;TZID=Europe/Brussels:20200827T093000
DTEND;TZID=Europe/Brussels:20200827T130000
END:VEVENT
BEGIN:VEVENT
UID:Plaine Commune vous invite aux ateliers d'été de la rénovation urbai
 ne de Villetaneuse ! -5704
DTSTAMP:20200706T145702Z
SUMMARY:Fabrique ton quartier idéal !  - Ma maison en papier ! 
DESCRIPTION:1. Fabrique ton quartieri déal – partenariat avec le Fablab 
 Mobile I cietLab29.06.2020« Fabrication de maquettes permettant d’imagi
 ner le quartier idéal avec de jeunes habitants. L’action a pour ob...
LOCATION:Tremplin
DTSTART;TZID=Europe/Brussels:20200826T100000
DTEND;TZID=Europe/Brussels:20200826T170000
END:VEVENT
BEGIN:VEVENT
UID:Plaine Commune vous invite aux ateliers d'été de la rénovation urbai
 ne de Villetaneuse ! -5648
DTSTAMP:20200702T091259Z
SUMMARY:Jardinage en famille ! 
DESCRIPTION:Découvrir la saison et la biodiversité estivales au jardinSav
 oir reconnaître et identifier les plantes dans leur forme estivale Appren
 dre les rudiments du jardinage à cette périodeRenforcer les lie...
LOCATION:Jardin partagé de Villetaneus
DTSTART;TZID=Europe/Brussels:20200826T093000
DTEND;TZID=Europe/Brussels:20200826T113000
END:VEVENT
BEGIN:VEVENT
UID:Plaine Commune vous invite aux ateliers d'été de la rénovation urbai
 ne de Villetaneuse ! -5639
DTSTAMP:20200702T090048Z
SUMMARY:Reconnaissance et valorisation des plantes communes
DESCRIPTION:Récolte de baies de sureau
LOCATION:Butte Pinson
DTSTART;TZID=Europe/Brussels:20200825T093000
DTEND;TZID=Europe/Brussels:20200825T130000
END:VEVENT
BEGIN:VEVENT
UID:Plaine Commune vous invite aux ateliers d'été de la rénovation urbai
 ne de Villetaneuse ! -5640
DTSTAMP:20200702T090131Z
SUMMARY:Reconnaissance et valorisation des plantes communes
DESCRIPTION:Confection de sirop de sureau
LOCATION:Tremplin
DTSTART;TZID=Europe/Brussels:20200820T093000
DTEND;TZID=Europe/Brussels:20200820T130000
END:VEVENT
BEGIN:VEVENT
UID:Plaine Commune vous invite aux ateliers d'été de la rénovation urbai
 ne de Villetaneuse ! -5647
DTSTAMP:20200702T091214Z
SUMMARY:Jardinage en famille
DESCRIPTION:Découvrir la saison et la biodiversité estivales au jardinSav
 oir reconnaître et identifier les plantes dans leur forme estivale Appren
 dre les rudiments du jardinage à cette périodeRenforcer les lie...
LOCATION:Jardin partagé
DTSTART;TZID=Europe/Brussels:20200819T093000
DTEND;TZID=Europe/Brussels:20200819T113000
END:VEVENT
BEGIN:VEVENT
UID:Plaine Commune vous invite aux ateliers d'été de la rénovation urbai
 ne de Villetaneuse ! -5646
DTSTAMP:20200702T091133Z
SUMMARY:Jardinage en famille
DESCRIPTION:Découvrir la saison et la biodiversité estivales au jardinSav
 oir reconnaître et identifier les plantes dans leur forme estivale Appren
 dre les rudiments du jardinage à cette périodeRenforcer les lie...
LOCATION:Jardin partagé
DTSTART;TZID=Europe/Brussels:20200812T093000
DTEND;TZID=Europe/Brussels:20200812T113000
END:VEVENT
BEGIN:VEVENT
UID:Plaine Commune vous invite aux ateliers d'été de la rénovation urbai
 ne de Villetaneuse ! -5707
DTSTAMP:20200706T150134Z
SUMMARY:Répare ton vélo ! 
DESCRIPTION:
LOCATION:Tremplin
DTSTART;TZID=Europe/Brussels:20200808T100000
DTEND;TZID=Europe/Brussels:20200808T140000
END:VEVENT
BEGIN:VEVENT
UID:Plaine Commune vous invite aux ateliers d'été de la rénovation urbai
 ne de Villetaneuse ! -5645
DTSTAMP:20200702T091045Z
SUMMARY:Jardinage en famille
DESCRIPTION:Découvrir la saison et la biodiversité estivales au jardinSav
 oir reconnaître et identifier les plantes dans leur forme estivale Appren
 dre les rudiments du jardinage à cette périodeRenforcer les lie...
LOCATION:Jardin partagé
DTSTART;TZID=Europe/Brussels:20200729T093000
DTEND;TZID=Europe/Brussels:20200729T113000
END:VEVENT
BEGIN:VEVENT
UID:Plaine Commune vous invite aux ateliers d'été de la rénovation urbai
 ne de Villetaneuse ! -5702
DTSTAMP:20200706T145144Z
SUMMARY:Ma maison en papier
DESCRIPTION:« Cet atelier propose aux plus jeunes d’explorer leurs espac
 es de vie. Il s’agit d’appréhender\, avec la participation des enfant
 s\, les difficultés liées à l’habitat\, notamment à la suite du conf
 ine...
LOCATION:Tremplin
DTSTART;TZID=Europe/Brussels:20200724T100000
DTEND;TZID=Europe/Brussels:20200724T170000
END:VEVENT
BEGIN:VEVENT
UID:Plaine Commune vous invite aux ateliers d'été de la rénovation urbai
 ne de Villetaneuse ! -5701
DTSTAMP:20200706T145035Z
SUMMARY:Fabrique ton quartier idéal ! 
DESCRIPTION:« Fabrication de maquettes permettant d’imaginer le quartier
  idéal avec de jeunes habitants. L’action a pour objectif de faire déc
 ouvrir l’urbanisme et l’architecture aux jeunes\, tout en stimulant ..
 .
LOCATION:Tremplin
DTSTART;TZID=Europe/Brussels:20200724T100000
DTEND;TZID=Europe/Brussels:20200724T170000
END:VEVENT
BEGIN:VEVENT
UID:Plaine Commune vous invite aux ateliers d'été de la rénovation urbai
 ne de Villetaneuse ! -5638
DTSTAMP:20200702T085953Z
SUMMARY:Reconnaissance et valorisation des plantes communes
DESCRIPTION:Confection de sirop de sureau
LOCATION:Tremplin
DTSTART;TZID=Europe/Brussels:20200723T093000
DTEND;TZID=Europe/Brussels:20200723T130000
END:VEVENT
BEGIN:VEVENT
UID:Plaine Commune vous invite aux ateliers d'été de la rénovation urbai
 ne de Villetaneuse ! -5644
DTSTAMP:20200702T090955Z
SUMMARY:Jardinage en famille
DESCRIPTION:Découvrir la saison et la biodiversité estivales au jardinSav
 oir reconnaître et identifier les plantes dans leur forme estivale Appren
 dre les rudiments du jardinage à cette périodeRenforcer les lie...
LOCATION:Jardin partagé
DTSTART;TZID=Europe/Brussels:20200722T093000
DTEND;TZID=Europe/Brussels:20200722T113000
END:VEVENT
BEGIN:VEVENT
UID:Plaine Commune vous invite aux ateliers d'été de la rénovation urbai
 ne de Villetaneuse ! -5637
DTSTAMP:20200702T085904Z
SUMMARY:Reconnaissance et valorisation des plantes communes
DESCRIPTION:Huile de millepertuis
LOCATION:Jardin partagé de Villetaneus
DTSTART;TZID=Europe/Brussels:20200720T093000
DTEND;TZID=Europe/Brussels:20200720T130000
END:VEVENT
BEGIN:VEVENT
UID:Plaine Commune vous invite aux ateliers d'été de la rénovation urbai
 ne de Villetaneuse ! -5636
DTSTAMP:20200702T085809Z
SUMMARY:Reconnaissance et valorisation des plantes communes
DESCRIPTION:Récoltes plantes à tisanes puis confection de tisanes
LOCATION:Jardin Partagé + Tremplin
DTSTART;TZID=Europe/Brussels:20200717T093000
DTEND;TZID=Europe/Brussels:20200717T130000
END:VEVENT
BEGIN:VEVENT
UID:Plaine Commune vous invite aux ateliers d'été de la rénovation urbai
 ne de Villetaneuse ! -5635
DTSTAMP:20200702T085637Z
SUMMARY:Reconnaissance et valorisation des plantes communes
DESCRIPTION:Récolte sureau9 participants (3 enfants)entre 30 et 45 ans pou
 r les adultes et 4 et 12 ans pour les enfantsQuartiers : toute la ville
LOCATION:Butte Pinson
DTSTART;TZID=Europe/Brussels:20200716T093000
DTEND;TZID=Europe/Brussels:20200716T130000
END:VEVENT
BEGIN:VEVENT
UID:Plaine Commune vous invite aux ateliers d'été de la rénovation urbai
 ne de Villetaneuse ! -5643
DTSTAMP:20200702T090905Z
SUMMARY:Jardinage en famille ! 
DESCRIPTION:Découvrir la saison et la biodiversité estivales au jardinSav
 oir reconnaître et identifier les plantes dans leur forme estivale Appren
 dre les rudiments du jardinage à cette périodeRenforcer les lie...
LOCATION:jardin partagé
DTSTART;TZID=Europe/Brussels:20200715T093000
DTEND;TZID=Europe/Brussels:20200715T113000
END:VEVENT
BEGIN:VEVENT
UID:Plaine Commune vous invite aux ateliers d'été de la rénovation urbai
 ne de Villetaneuse ! -5634
DTSTAMP:20200702T085432Z
SUMMARY:Reconnaissance et valorisation des plantes communes
DESCRIPTION:Récolte Millepertuit Participants : 7 participants dont 4 enf
 antsAge : Adulte entre 30 et 45 ans Enfants entre 8 et 14 ansQuartiers : P
 artout sur la ville 
LOCATION:Tremplin / Friche Saint Leu 
DTSTART;TZID=Europe/Brussels:20200713T100000
DTEND;TZID=Europe/Brussels:20200713T130000
END:VEVENT
BEGIN:VEVENT
UID:Plaine Commune vous invite aux ateliers d'été de la rénovation urbai
 ne de Villetaneuse ! -5700
DTSTAMP:20200706T144845Z
SUMMARY:Répare ton vélo ! 
DESCRIPTION:Un atelier de réparation de vélo en lien avec l'association V
 illet'AMAP et le projet Villeta'Vélo. Il s'agira simplement de ramener so
 n vélo et ensemble on tentera de le réparer.
LOCATION:Tremplin
DTSTART;TZID=Europe/Brussels:20200711T100000
DTEND;TZID=Europe/Brussels:20200711T140000
END:VEVENT
END:VCALENDAR